{"text_format":"1","workbook":"xlsx","n_sheets":5,"sheets":["入力シート","パターングラフデータ","スコアシート","パターングラフ","使用上の注意"],"not_rendered":{"charts":1,"images":0,"macros":1,"external_links":0,"defined_names":1,"comments":0,"pivot_tables":0},"unopened":[],"bounds":{"document_bytes":16777216,"sheet_cells":100000,"rows_first":2000,"rows_last":500,"rows_between":2000,"halvings":0,"cell_chars":16384,"cell_head_chars":4096},"cells_cut":0,"cells_raw":0,"read":"whole","date_system":"1900"}

{"sheet":"入力シート","index":0,"n_rows":43,"n_cols":32,"rows_kept":43,"cut":false,"hidden":false,"merged":[[33,24,33,26],[34,24,34,26],[35,24,35,26],[2,3,2,9],[33,22,33,23],[34,22,34,23],[35,22,35,23],[4,3,4,4],[33,17,33,19],[36,24,36,26],[40,22,40,23],[41,22,41,23],[42,22,42,23],[42,24,42,26],[39,22,39,23],[36,22,36,23],[39,24,39,26],[40,24,40,26],[41,24,41,26]]}
["ND-100 データ入力シート"]
[]
[null,"被検者氏名"]
[]
[null,"検査日",null,null,null,"年",null,"月",null,"日"]
[]
[null,"100hue"]
[null,null,null,null,null,null,null,null,null,null,null,null,null,"内箱　No.1"]
[null,"順位",{"$f":"\"(100)\"","v":"(100)"},1,2,3,4,5,6,7,8,9,10,11,12,13,14,15,16,17,18,19,20,21,22,23,24,25,26,null,null,"小計１"]
[null,"テスト順",0,null,null,null,null,null,null,null,null,null,null,null,null,null,null,null,null,null,null,null,null,null,null,null,null,null,26,null,{"$f":"OR(SUM($D11:$AB11)>0,OR(ISBLANK($D10),ISBLANK($E10),ISBLANK($F10),ISBLANK($G10),ISBLANK($H10),ISBLANK($I10),ISBLANK($J10),ISBLANK($K10),ISBLANK($L10),ISBLANK($M10),ISBLANK($N10),ISBLANK($O10),ISBLANK($P10),ISBLANK($Q10),ISBLANK($R10),ISBLANK($S10),ISBLANK($T10),ISBLANK($U10),ISBLANK($V10),ISBLANK($W10),ISBLANK($X10),ISBLANK($Y10),ISBLANK($Z10),ISBLANK($AA10),ISBLANK($AB10)))","v":true},{"$f":"IF(AE10=FALSE,スコアシート!BH10,\"\")","v":""}]
[null,null,"重複",{"$f":"COUNTIF($C$10:$AC$10,D10)-1","v":0},{"$f":"COUNTIF($C$10:$AC$10,E10)-1","v":0},0,0,0,0,0,0,0,0,0,0,0,0,0,0,0,0,0,0,0,0,0,0,0]
[null,null,"ｴﾗｰ",{"$f":"IF(D9=D10,0,1)","v":1},{"$f":"IF(E9=E10,0,1)","v":1},1,1,1,1,1,1,1,1,1,1,1,1,1,1,1,1,1,1,1,1,1,1,1]
[]
[null,null,null,null,null,null,null,null,null,null,null,null,null,"内箱　No.2"]
[null,"順位",25,26,27,28,29,30,31,32,33,34,35,36,37,38,39,40,41,42,43,44,45,46,47,48,49,50,51,null,null,"小計2"]
[null,"テスト順",25,null,null,null,null,null,null,null,null,null,null,null,null,null,null,null,null,null,null,null,null,null,null,null,null,null,51,null,{"$f":"OR(SUM($D17:$AB17)>0,OR(ISBLANK($D16),ISBLANK($E16),ISBLANK($F16),ISBLANK($G16),ISBLANK($H16),ISBLANK($I16),ISBLANK($J16),ISBLANK($K16),ISBLANK($L16),ISBLANK($M16),ISBLANK($N16),ISBLANK($O16),ISBLANK($P16),ISBLANK($Q16),ISBLANK($R16),ISBLANK($S16),ISBLANK($T16),ISBLANK($U16),ISBLANK($V16),ISBLANK($W16),ISBLANK($X16),ISBLANK($Y16),ISBLANK($Z16),ISBLANK($AA16),ISBLANK($AB16)))","v":true},{"$f":"IF(AE16=FALSE,スコアシート!BH17,\"\")","v":""}]
[null,null,"重複",{"$f":"COUNTIF($C$16:$AC$16,D16)-1","v":-1},{"$f":"COUNTIF($C$16:$AC$16,E16)-1","v":-1},-1,-1,-1,-1,-1,-1,-1,-1,-1,-1,-1,-1,-1,-1,-1,-1,-1,-1,-1,-1,-1,-1,-1]
[null,null,"ｴﾗｰ"]
[]
[null,null,null,null,null,null,null,null,null,null,null,null,null,"内箱　No.3"]
[null,"順位",50,51,52,53,54,55,56,57,58,59,60,61,62,63,64,65,66,67,68,69,70,71,72,73,74,75,76,null,null,"小計3"]
[null,"テスト順",50,null,null,null,null,null,null,null,null,null,null,null,null,null,null,null,null,null,null,null,null,null,null,null,null,null,76,null,{"$f":"OR(SUM($D23:$AB23)>0,OR(ISBLANK($D22),ISBLANK($E22),ISBLANK($F22),ISBLANK($G22),ISBLANK($H22),ISBLANK($I22),ISBLANK($J22),ISBLANK($K22),ISBLANK($L22),ISBLANK($M22),ISBLANK($N22),ISBLANK($O22),ISBLANK($P22),ISBLANK($Q22),ISBLANK($R22),ISBLANK($S22),ISBLANK($T22),ISBLANK($U22),ISBLANK($V22),ISBLANK($W22),ISBLANK($X22),ISBLANK($Y22),ISBLANK($Z22),ISBLANK($AA22),ISBLANK($AB22)))","v":true},{"$f":"IF(AE22=FALSE,スコアシート!BH24,\"\")","v":""}]
[null,null,"重複",{"$f":"COUNTIF($C$22:$AC$22,D22)-1","v":-1},-1,-1,-1,-1,-1,-1,-1,-1,-1,-1,-1,-1,-1,-1,-1,-1,-1,-1,-1,-1,-1,-1,-1,-1]
[null,null,"ｴﾗｰ",{"$f":"IF(D21=D22,0,1)","v":1},{"$f":"IF(E21=E22,0,1)","v":1},1,1,1,1,1,1,1,1,1,1,1,1,1,1,1,1,1,1,1,1,1,1,1]
[]
[null,null,null,null,null,null,null,null,null,null,null,null,null,"内箱　No.4"]
[null,"順位",75,76,77,78,79,80,81,82,83,84,85,86,87,88,89,90,91,92,93,94,95,96,97,98,99,100,{"$f":"\"(1)\"","v":"(1)"},null,null,"小計4"]
[null,"テスト順",75,null,null,null,null,null,null,null,null,null,null,null,null,null,null,null,null,null,null,null,null,null,null,null,null,null,101,null,{"$f":"OR(SUM($D29:$AB29)>0,OR(ISBLANK($D28),ISBLANK($E28),ISBLANK($F28),ISBLANK($G28),ISBLANK($H28),ISBLANK($I28),ISBLANK($J28),ISBLANK($K28),ISBLANK($L28),ISBLANK($M28),ISBLANK($N28),ISBLANK($O28),ISBLANK($P28),ISBLANK($Q28),ISBLANK($R28),ISBLANK($S28),ISBLANK($T28),ISBLANK($U28),ISBLANK($V28),ISBLANK($W28),ISBLANK($X28),ISBLANK($Y28),ISBLANK($Z28),ISBLANK($AA28),ISBLANK($AB28)))","v":true},{"$f":"IF(AE28=FALSE,スコアシート!BH31,\"\")","v":""}]
[null,null,"重複",{"$f":"COUNTIF($C$28:$AC$28,D28)-1","v":-1},{"$f":"COUNTIF($C$28:$AC$28,E28)-1","v":-1},-1,-1,-1,-1,-1,-1,-1,-1,-1,-1,-1,-1,-1,-1,-1,-1,-1,-1,-1,-1,-1,-1,-1]
[null,null,"ｴﾗｰ",{"$f":"IF(D27=D28,0,1)","v":1},{"$f":"IF(E27=E28,0,1)","v":1},1,1,1,1,1,1,1,1,1,1,1,1,1,1,1,1,1,1,1,1,1,1,1]
[]
[null,null,null,null,null,null,null,null,null,null,null,null,null,null,null,null,null,null,null,null,null,null,null,null,null,null,null,null,null,null,{"$f":"OR(AE10,AE16,AE22,AE28)","v":true}]
[null,null,null,null,null,null,null,null,null,null,null,null,null,null,null,null,null,"使用する判定基準",null,null,null,"判定基準Ａ(旧基準)"]
[null,"入力上の注意　",null,null,null,null,null,null,null,null,null,null,null,null,null,null,null,"判定しない",null,null,null,"ランク","誤回答数"]
[null,null,"・被検者名、検査日を青色セルに記入してください",null,null,null,null,null,null,null,null,null,null,null,null,null,null,null,null,null,null,"優","16以下"]
[null,null,"・内箱番号を間違えないように気をつけてください。",null,null,null,null,null,null,null,null,null,null,null,null,null,null,null,null,null,null,"良","17から48"]
[null,null,"・テスト順欄の黄色セルに回答値を入力してください。",null,null,null,null,null,null,null,null,null,null,null,null,null,null,null,null,null,null,"可","52から80"]
[null,null,"・範囲外の回答値は入力できません。"]
[null,null,"・黄色セルが赤色文字になったときは回答値が重複しています。確認してください。",null,null,null,null,null,null,null,null,null,null,null,null,null,null,null,null,null,null,"判定基準Ｂ（新基準2017年）"]
[null,null,"・黄色セルに空白があるか重複していると小計は表示されません。",null,null,null,null,null,null,null,null,null,null,null,null,null,null,null,null,null,null,"ランク","誤回答数",null,"色識別技能者として"]
[null,null,"・緑色セルの判定基準を選択してください",null,null,null,null,null,null,null,null,null,null,null,null,null,null,null,null,null,null,"A","32以下",null,"優秀"]
[null,null,"・入力結果はスコアシート、パターングラフに反映されます。",null,null,null,null,null,null,null,null,null,null,null,null,null,null,null,null,null,null,"B","33から80",null,"良好"]
[null,null,"・必要に応じて、スコアシート、パターングラフを印刷してください。",null,null,null,null,null,null,null,null,null,null,null,null,null,null,null,null,null,null,"C","80以上",null,"－－－"]

{"sheet":"パターングラフデータ","index":1,"n_rows":113,"n_cols":77,"rows_kept":113,"cut":false,"hidden":true,"merged":[]}
["ND-100 パターン・グラフ描画用データ",null,null,null,null,null,null,null,null,null,null,null,null,null,null,null,null,null,null,null,null,null,null,null,null,null,null,null,null,null,null,null,null,null,null,null,null,null,null,null,null,null,null,null,null,null,null,null,null,null,null,null,null,null,null,null,null,null,null,null,null,null,null,null,null,null,null,null,null,"2022/6/15修正　(V1.03：パターングラフ外周部に、色見本を追加。）"]
["2022/4/1修正: ver 1.02 (BA2参照)",null,null,null,null,null,null,null,null,null,null,null,null,null,null,null,null,null,null,null,null,null,null,null,null,null,null,null,null,null,null,null,null,null,null,null,null,null,null,null,null,null,null,null,null,null,null,null,null,null,null,null,"2022/4/1修正 BN列のイエロー塗りつぶし部分：内箱1～4の重複部分(8カ所)の加点計算を修正した。",null,null,null,null,null,null,null,null,null,null,null,null,null,null,null,null,"2CのCIELAB値で白色点補正を行い、これを2D65で逆変換を行いsRGBを適用した。"]
[null,null,null,null,null,null,null,"開始角度",90]
[null,null,null,null,null,null,null,"間隔",3.6]
[]
[]
[null,null,null,null,null,null,null,"開始半径",5]
[null,null,null,null,null,null,null,"間隔",1]
["2022/6/1修正: ver 1.03(BR列参照)"]
[]
["文字の位置指定表示",null,null,null,null,null,null,null,null,null,0,null,null,1,null,null,2,null,null,3,null,null,4,null,null,5,null,null,6,null,null,7,null,null,8,null,null,9,null,null,10,null,null,11,null,null,12,null,null,-1,null,null,"内箱1",null,null,"内箱2",null,null,"内箱3",null,null,"内箱4",null,null,"回答",null,null,null,null,null,14.5]
["表示","角度","rad","半径","x","y",null,"No.","角度","rad","半径","x","y","半径","x","y","半径","x","y","半径","x","y","半径","x","y","半径","x","y","半径","x","y","半径","x","y","半径","x","y","半径","x","y","半径","x","y","半径","x","y","半径","x","y","半径","x","y","No.","x","y","No.","x","y","No.","x","y","No.","x","y","No.","点","半径","x","y",null,"半径","x","y","R","G","B","Color"]
[1,{"$f":"I3+(A13-1)*I4","v":90},{"$f":"RADIANS(B13)","v":1.5707963267948966},18,{"$f":"D13*COS(C13)","v":1.102633609417758E-15},{"$f":"D13*SIN(C13)","v":18},null,1,{"$f":"I3+(H13-1)*I4","v":90},{"$f":"RADIANS(I13)","v":1.5707963267948966},{"$f":"I7+K11*I8","v":5},{"$f":"K13*COS(J13)","v":3.06287113727155E-16},{"$f":"K13*SIN(J13)","v":5},{"$f":"I7+N11*I8","v":6},{"$f":"N13*COS(J13)","v":3.67544536472586E-16},{"$f":"N13*SIN(J13)","v":6},{"$f":"I7+Q11*I8","v":7},{"$f":"Q13*COS(J13)","v":4.28801959218017E-16},{"$f":"Q13*SIN(J13)","v":7},{"$f":"I7+T11*I8","v":8},{"$f":"T13*COS(J13)","v":4.90059381963448E-16},{"$f":"T13*SIN(J13)","v":8},{"$f":"I7+W11*I8","v":9},{"$f":"W13*COS(J13)","v":5.51316804708879E-16},{"$f":"W13*SIN(J13)","v":9},{"$f":"I7+Z11*I8","v":10},{"$f":"Z13*COS(J13)","v":6.1257422745431001E-16},{"$f":"Z13*SIN(J13)","v":10},{"$f":"I7+AC11*I8","v":11},{"$f":"AC13*COS(J13)","v":6.7383165019974101E-16},{"$f":"AC13*SIN(J13)","v":11},{"$f":"I7+AF11*I8","v":12},{"$f":"AF13*COS(J13)","v":7.3508907294517201E-16},{"$f":"AF13*SIN(J13)","v":12},{"$f":"I7+AI11*I8","v":13},{"$f":"AI13*COS(J13)","v":7.9634649569060301E-16},{"$f":"AI13*SIN(J13)","v":13},{"$f":"I7+AL11*I8","v":14},{"$f":"AL13*COS(J13)","v":8.5760391843603401E-16},{"$f":"AL13*SIN(J13)","v":14},{"$f":"I7+AO11*I8","v":15},{"$f":"AO13*COS(J13)","v":9.1886134118146501E-16},{"$f":"AO13*SIN(J13)","v":15},{"$f":"I7+AR11*I8","v":16},{"$f":"AR13*COS(J13)","v":9.8011876392689601E-16},{"$f":"AR13*SIN(J13)","v":16},{"$f":"I7+AU11*I8","v":17},{"$f":"AU13*COS(J13)","v":1.041376186672327E-15},{"$f":"AU13*SIN(J13)","v":17},{"$f":"I7+AX11*I8","v":4},{"$f":"AX13*COS(J13)","v":2.45029690981724E-16},{"$f":"AX13*SIN(J13)","v":4},1,{"$f":"AV13","v":1.041376186672327E-15},{"$f":"AW13","v":17},{"$f":"BA85+1","v":26},{"$f":"AV38","v":-17},{"$f":"AW38","v":2.082752373344654E-15},{"$f":"BD85+1","v":51},{"$f":"AV63","v":-3.124128560016981E-15},{"$f":"AW63","v":-17},{"$f":"BG85+1","v":76},{"$f":"AV88","v":17},{"$f":"AW88","v":-4.165504746689308E-15},{"$f":"H13","v":1},{"$f":"スコアシート!E10+スコアシート!BC31","v":98},{"$f":"$I$7+BN13*$I$8","v":103},{"$f":"BO13*COS(J13)","v":6.3095145427793931E-15},{"$f":"BO13*SIN(J13)","v":103},{"$f":"H13","v":1},{"$f":"I7+BS11*I8","v":19.5},{"$f":"BS13*COS(J13)","v":1.1945197435359045E-15},{"$f":"BS13*SIN(J13)","v":19.5},169,143,145]
[3,{"$f":"I3+(A14-1)*I4","v":97.2},1.6964600329384885,{"$f":"D13","v":18},-2.2559982041574784,17.858064623660599,null,2,{"$f":"I3+(H14-1)*I4","v":93.6},1.6336281798666923,{"$f":"K13","v":5},-0.31395259764656591,4.990133642141358,{"$f":"N13","v":6},-0.37674311717587905,5.9881603705696289,{"$f":"Q13","v":7},-0.43953363670519224,6.9861870989979007,{"$f":"T13","v":8},-0.50232415623450544,7.9842138274261725,{"$f":"W13","v":9},-0.56511467576381857,8.9822405558544443,{"$f":"Z13","v":10},-0.62790519529313182,9.980267284282716,{"$f":"AC13","v":11},-0.69069571482244496,10.978294012710988,{"$f":"AF13","v":12},-0.7534862343517581,11.976320741139258,{"$f":"AI13","v":13},-0.81627675388107135,12.97434746956753,{"$f":"AL13","v":14},-0.87906727341038449,13.972374197995801,{"$f":"AO13","v":15},-0.94185779293969774,14.970400926424073,{"$f":"AR13","v":16},-1.0046483124690109,15.968427654852345,{"$f":"AU13","v":17},-1.0674388319983241,16.966454383280617,{"$f":"AX13","v":4},-0.25116207811725272,3.9921069137130862,1,{"$f":"AY13","v":2.45029690981724E-16},{"$f":"AZ13","v":4},{"$f":"BA86+1","v":26},{"$f":"AY38","v":-4},{"$f":"AZ38","v":4.90059381963448E-16},{"$f":"BD86+1","v":51},{"$f":"AY63","v":-7.3508907294517201E-16},{"$f":"AZ63","v":-4},{"$f":"BG86+1","v":76},{"$f":"AY88","v":4},{"$f":"AZ88","v":-9.8011876392689601E-16},{"$f":"H14","v":2},{"$f":"スコアシート!G10","v":-2},3,-0.18837155858793952,2.9940801852848145,{"$f":"H14","v":2},{"$f":"BS13","v":19.5},-1.2244151308216069,19.461521204351296,169,143,144]
[5,{"$f":"I3+(A15-1)*I4","v":104.4},1.8221237390820801,18,-4.4764179689673878,17.434496900315359,null,3,{"$f":"I3+(H15-1)*I4","v":97.2},1.6964600329384885,5,-0.62666616782152185,4.9605735065723886,6,-0.75199940138582622,5.952688207886867,7,-0.87733263495013059,6.9448029092013446,8,-1.002665868514435,7.9369176105158221,9,-1.1279991020787392,8.9290323118302997,10,-1.2533323356430437,9.9211470131447772,11,-1.3786655692073482,10.913261714459255,12,-1.5039988027716524,11.905376415773734,13,-1.6293320363359567,12.897491117088212,14,-1.7546652699002612,13.889605818402689,15,-1.8799985034645657,14.881720519717167,16,-2.0053317370288699,15.873835221031644,17,-2.1306649705931742,16.865949922346122,4,-0.50133293425721748,3.9684588052579111,null,null,null,null,null,null,null,null,null,null,null,null,3,{"$f":"スコアシート!I10","v":-2},3,-0.37599970069291311,2.9763441039434335,3,19.5,-2.4439980545039353,19.346236675632316,168,143,142]
[7,{"$f":"I3+(A16-1)*I4","v":111.6},1.9477874452256716,18,-6.6262419483241999,16.735976745988527,null,4,{"$f":"I3+(H16-1)*I4","v":100.8},1.7592918860102842,5,-0.936906572928623,4.9114362536434433,6,-1.1242878875143476,5.8937235043721321,7,-1.3116692021000722,6.8760107551008209,8,-1.4990505166857968,7.8582980058295098,9,-1.6864318312715214,8.8405852565581977,10,-1.873813145857246,9.8228725072868865,11,-2.0611944604429704,10.805159758015575,12,-2.2485757750286952,11.787447008744264,13,-2.43595708961442,12.769734259472953,14,-2.6233384042001444,13.752021510201642,15,-2.8107197187858688,14.734308760930331,16,-2.9981010333715936,15.71659601165902,17,-3.1854823479573184,16.698883262387707,4,-0.7495252583428984,3.9291490029147549,{"$f":"BA13+1","v":2},{"$f":"AV14","v":-1.0674388319983241},{"$f":"AW14","v":16.966454383280617},{"$f":"BD13+1","v":27},{"$f":"AV39","v":-16.966454383280617},{"$f":"AW39","v":-1.0674388319983341},{"$f":"BG13+1","v":52},{"$f":"AV64","v":1.0674388319983332},{"$f":"AW64","v":-16.966454383280617},{"$f":"BJ13+1","v":77},{"$f":"AV89","v":16.966454383280617},{"$f":"AW89","v":1.0674388319983323},4,{"$f":"スコアシート!K10","v":-2},3,-0.5621439437571738,2.9468617521860661,4,19.5,-3.6539356344216296,19.154601389209429,168,144,140]
[9,{"$f":"I3+(A17-1)*I4","v":118.8},2.0734511513692633,18,-8.6715661338308703,15.773520240789546,null,5,{"$f":"I3+(H17-1)*I4","v":104.4},1.8221237390820801,5,-1.2434494358242743,4.8429158056431554,6,-1.4921393229891291,5.8114989667717865,7,-1.740829210153984,6.7800821279004175,8,-1.9895190973188388,7.7486652890290486,9,-2.2382089844836939,8.7172484501576797,10,-2.4868988716485485,9.6858316112863108,11,-2.7355887588134031,10.654414772414942,12,-2.9842786459782582,11.622997933543573,13,-3.2329685331431133,12.591581094672204,14,-3.4816584203079679,13.560164255800835,15,-3.7303483074728225,14.528747416929466,16,-3.9790381946376776,15.497330578058097,17,-4.2277280818025327,16.465913739186728,4,-0.9947595486594194,3.8743326445145243,{"$f":"BA14+1","v":2},{"$f":"AY14","v":-0.25116207811725272},{"$f":"AZ14","v":3.9921069137130862},{"$f":"BD14+1","v":27},{"$f":"AY39","v":-3.9921069137130862},{"$f":"AZ39","v":-0.25116207811725511},{"$f":"BG14+1","v":52},{"$f":"AY64","v":0.25116207811725488},{"$f":"AZ64","v":-3.9921069137130862},{"$f":"BJ14+1","v":77},{"$f":"AY89","v":3.9921069137130862},{"$f":"AZ89","v":0.25116207811725466},5,{"$f":"スコアシート!M10","v":-2},3,-0.74606966149456455,2.9057494833858932,5,19.5,-4.8494527997146699,18.887371642008304,168,144,138]
[11,{"$f":"I3+(A18-1)*I4","v":126},2.1991148575128552,18,-10.580134541264515,14.562305898749054,null,6,{"$f":"I3+(H18-1)*I4","v":108},1.8849555921538759,5,-1.5450849718747368,4.7552825814757682,6,-1.854101966249684,5.7063390977709219,7,-2.1631189606246313,6.6573956140660755,8,-2.4721359549995787,7.6084521303612291,9,-2.7811529493745262,8.5595086466563828,10,-3.0901699437494736,9.5105651629515364,11,-3.3991869381244206,10.46162167924669,12,-3.7082039324993681,11.412678195541844,13,-4.0172209268743151,12.363734711836997,14,-4.3262379212492625,13.314791228132151,15,-4.63525491562421,14.265847744427305,16,-4.9442719099991574,15.216904260722458,17,-5.2532889043741049,16.167960777017612,4,-1.2360679774997894,3.8042260651806146,null,null,null,null,null,null,null,null,null,null,null,null,6,{"$f":"スコアシート!O10","v":-2},3,-0.92705098312484202,2.8531695488854609,6,19.5,-6.0258313903114731,18.545602067755496,167,144,137]
[13,{"$f":"I3+(A19-1)*I4","v":133.19999999999999},2.3247785636564466,18,-12.321847906716391,13.121435293585412,null,7,{"$f":"I3+(H19-1)*I4","v":111.6},1.9477874452256716,5,-1.8406227634233887,4.6488824294412572,6,-2.2087473161080666,5.578658915329509,7,-2.5768718687927441,6.5084354012177599,8,-2.944996421477422,7.4382118871060117,9,-3.3131209741620999,8.3679883729942635,10,-3.6812455268467774,9.2977648588825144,11,-4.0493700795314549,10.227541344770765,12,-4.4174946322161333,11.157317830659018,13,-4.7856191849008107,12.087094316547269,14,-5.1537437375854882,13.01687080243552,15,-5.5218682902701666,13.946647288323772,16,-5.889992842954844,14.876423774212023,17,-6.2581173956395215,15.806200260100274,4,-1.472498210738711,3.7191059435530058,{"$f":"BA16+1","v":3},{"$f":"AV15","v":-2.1306649705931742},{"$f":"AW15","v":16.865949922346122},{"$f":"BD16+1","v":28},{"$f":"AV40","v":-16.865949922346125},{"$f":"AW40","v":-2.1306649705931653},{"$f":"BG16+1","v":53},{"$f":"AV65","v":2.130664970593187},{"$f":"AW65","v":-16.865949922346122},{"$f":"BJ16+1","v":78},{"$f":"AV90","v":16.865949922346125},{"$f":"AW90","v":2.1306649705931711},7,{"$f":"スコアシート!Q10","v":-2},3,-1.1043736580540333,2.7893294576647545,7,19.5,-7.1784287773512165,18.130641474820905,166,145,135]
[15,{"$f":"I3+(A20-1)*I4","v":140.4},2.450442269800039,18,-13.869238369964208,11.473631815476411,null,8,{"$f":"I3+(H20-1)*I4","v":115.2},2.0106192982974678,5,-2.1288964578253635,4.5241352623300974,6,-2.5546757493904364,5.4289623147961166,7,-2.9804550409555088,6.3337893672621366,8,-3.4062343325205817,7.2386164197281557,9,-3.8320136240856546,8.1434434721941749,10,-4.257792915650727,9.0482705246601949,11,-4.6835722072157999,9.9530975771262149,12,-5.1093514987808728,10.857924629592233,13,-5.5351307903459457,11.762751682058253,14,-5.9609100819110177,12.667578734524273,15,-6.3866893734760906,13.572405786990291,16,-6.8124686650411634,14.477232839456311,17,-7.2382479566062363,15.382059891922331,4,-1.7031171662602909,3.6193082098640779,{"$f":"BA17+1","v":3},{"$f":"AY15","v":-0.50133293425721748},{"$f":"AZ15","v":3.9684588052579111},{"$f":"BD17+1","v":28},{"$f":"AY40","v":-3.9684588052579115},{"$f":"AZ40","v":-0.50133293425721537},{"$f":"BG17+1","v":53},{"$f":"AY65","v":0.50133293425722047},{"$f":"AZ65","v":-3.9684588052579111},{"$f":"BJ17+1","v":78},{"$f":"AY90","v":3.9684588052579115},{"$f":"AZ90","v":0.5013329342572167},8,{"$f":"スコアシート!S10","v":-2},3,-1.2773378746952182,2.7144811573980583,8,19.5,-8.3026961855189185,17.644127523087381,166,145,134]
[17,{"$f":"I3+(A21-1)*I4","v":147.6},2.5761059759436304,18,-15.197902659036272,9.6448823096219396,null,9,{"$f":"I3+(H21-1)*I4","v":118.8},2.0734511513692633,5,-2.4087683705085752,4.3815334002193183,6,-2.8905220446102904,5.2578400802631826,7,-3.3722757187120052,6.1341467603070461,8,-3.8540293928137204,7.0104534403509096,9,-4.3357830669154351,7.886760120394773,10,-4.8175367410171503,8.7630668004386365,11,-5.2992904151188656,9.6393734804825009,12,-5.7810440892205808,10.515680160526365,13,-6.262797763322296,11.391986840570228,14,-6.7445514374240103,12.268293520614092,15,-7.2263051115257255,13.144600200657955,16,-7.7080587856274407,14.020906880701819,17,-8.1898124597291559,14.897213560745683,4,-1.9270146964068602,3.5052267201754548,null,null,null,null,null,null,null,null,null,null,null,null,9,{"$f":"スコアシート!U10","v":-2},3,-1.4452610223051452,2.6289200401315913,9,19.5,-9.3941966449834435,17.087980260855343,165,145,132]
[19,{"$f":"I3+(A22-1)*I4","v":154.80000000000001},2.7017696820872223,18,-16.286886944388353,7.6640272481713048,null,10,{"$f":"I3+(H22-1)*I4","v":122.4},2.1362830044410597,5,-2.6791339748949845,4.2216396275100747,6,-3.2149607698739811,5.06596755301209,7,-3.750787564852978,5.9102954785141044,8,-4.286614359831975,6.7546234040161197,9,-4.8224411548109716,7.598951329518135,10,-5.358267949789969,8.4432792550201494,11,-5.8940947447689656,9.2876071805221638,12,-6.4299215397479621,10.13193510602418,13,-6.9657483347269595,10.976263031526194,14,-7.5015751297059561,11.820590957028209,15,-8.0374019246849535,12.664918882530225,16,-8.5732287196639501,13.509246808032239,17,-9.1090555146429466,14.353574733534254,4,-2.1433071799159875,3.3773117020080599,{"$f":"BA19+1","v":4},{"$f":"AV16","v":-3.1854823479573184},{"$f":"AW16","v":16.698883262387707},{"$f":"BD19+1","v":29},{"$f":"AV41","v":-16.698883262387707},{"$f":"AW41","v":-3.1854823479573211},{"$f":"BG19+1","v":54},{"$f":"AV66","v":3.1854823479573273},{"$f":"AW66","v":-16.698883262387707},{"$f":"BJ19+1","v":79},{"$f":"AV91","v":16.698883262387707},{"$f":"AW91","v":3.1854823479573264},10,{"$f":"スコアシート!W10","v":-2},3,-1.6074803849369905,2.532983776506045,10,19.5,-10.448622502090439,16.464394547289292,164,146,131]
[21,{"$f":"I3+(A23-1)*I4","v":162},2.8274333882308138,18,-17.119017293312762,5.562305898749055,null,11,{"$f":"I3+(H23-1)*I4","v":126},2.1991148575128552,5,-2.938926261462365,4.0450849718747373,6,-3.5267115137548384,4.8541019662496847,7,-4.1144967660473108,5.6631189606246322,8,-4.7022820183397842,6.4721359549995796,9,-5.2900672706322576,7.2811529493745271,10,-5.87785252292473,8.0901699437494745,11,-6.4656377752172034,8.8991869381244229,12,-7.0534230275096768,9.7082039324993694,13,-7.6412082798021492,10.517220926874316,14,-8.2289935320946217,11.326237921249264,15,-8.8167787843870951,12.135254915624213,16,-9.4045640366795684,12.944271909999159,17,-9.9923492889720418,13.753288904374106,4,-2.3511410091698921,3.2360679774997898,{"$f":"BA20+1","v":4},{"$f":"AY16","v":-0.7495252583428984},{"$f":"AZ16","v":3.9291490029147549},{"$f":"BD20+1","v":29},{"$f":"AY41","v":-3.9291490029147544},{"$f":"AZ41","v":-0.74952525834289907},{"$f":"BG20+1","v":54},{"$f":"AY66","v":0.74952525834290051},{"$f":"AZ66","v":-3.9291490029147544},{"$f":"BJ20+1","v":79},{"$f":"AY91","v":3.9291490029147544},{"$f":"AZ91","v":0.74952525834290029},11,{"$f":"スコアシート!Y10","v":-2},3,-1.7633557568774192,2.4270509831248424,11,19.5,-11.461812419703223,15.775831390311476,164,146,129]
[23,{"$f":"I3+(A24-1)*I4","v":169.2},2.9530970943744053,18,-17.681170513116395,3.3728636625430504,null,12,{"$f":"I3+(H24-1)*I4","v":129.6},2.2619467105846511,5,-3.1871199487434487,3.852566213878946,6,-3.8245439384921385,4.623079456654736,7,-4.4619679282408278,5.393592699430525,8,-5.099391917989518,6.164105942206314,9,-5.7368159077382082,6.9346191849821031,10,-6.3742398974868975,7.7051324277578921,11,-7.0116638872355868,8.475645670533682,12,-7.6490878769842769,9.2461589133094719,13,-8.2865118667329671,10.01667215608526,14,-8.9239358564816555,10.78718539886105,15,-9.5613598462303457,11.557698641636838,16,-10.198783835979036,12.328211884412628,17,-10.836207825727726,13.098725127188418,4,-2.549695958994759,3.082052971103157,null,null,null,null,null,null,null,null,null,null,null,null,12,{"$f":"スコアシート!AA10","v":-2},3,-1.9122719692460692,2.311539728327368,12,19.5,-12.42976780009945,15.02500823412789,163,147,128]
[25,{"$f":"I3+(A25-1)*I4","v":176.4},3.0787608005179976,18,-17.964481111708889,1.1302293515276365,null,13,{"$f":"I3+(H25-1)*I4","v":133.19999999999999},2.3247785636564466,5,-3.4227355296434419,3.6448431371070589,6,-4.1072826355721306,4.3738117645284706,7,-4.7918297415008189,5.1027803919498824,8,-5.4763768474295071,5.8317490193712942,9,-6.1609239533581954,6.560717646792706,10,-6.8454710592868837,7.2896862742141177,11,-7.530018165215572,8.0186549016355286,12,-8.2145652711442612,8.7476235290569413,13,-8.8991123770729494,9.476592156478354,14,-9.5836594830016377,10.205560783899765,15,-10.268206588930326,10.934529411321176,16,-10.952753694859014,11.663498038742588,17,-11.637300800787703,12.392466666164001,4,-2.7381884237147536,2.9158745096856471,{"$f":"BA22+1","v":5},{"$f":"AV17","v":-4.2277280818025327},{"$f":"AW17","v":16.465913739186728},{"$f":"BD22+1","v":30},{"$f":"AV42","v":-16.465913739186728},{"$f":"AW42","v":-4.2277280818025353},{"$f":"BG22+1","v":55},{"$f":"AV67","v":4.2277280818025194},{"$f":"AW67","v":-16.465913739186732},{"$f":"BJ22+1","v":80},{"$f":"AV92","v":16.465913739186728},{"$f":"AW92","v":4.2277280818025327},13,{"$f":"スコアシート!AC10","v":-2},3,-2.0536413177860653,2.1869058822642353,13,19.5,-13.348668565609424,14.214888234717529,162,147,127]
[27,{"$f":"I3+(A26-1)*I4","v":183.60000000000002},3.2044245066615895,18,-17.964481111708889,-1.130229351527648,null,14,{"$f":"I3+(H26-1)*I4","v":136.80000000000001},2.387610416728243,5,-3.6448431371070584,3.4227355296434423,6,-4.3738117645284698,4.1072826355721315,7,-5.1027803919498815,4.7918297415008198,8,-5.8317490193712933,5.476376847429508,9,-6.5607176467927051,6.1609239533581963,10,-7.2896862742141169,6.8454710592868846,11,-8.0186549016355286,7.5300181652155738,12,-8.7476235290569395,8.2145652711442629,13,-9.4765921564783522,8.8991123770729512,14,-10.205560783899763,9.5836594830016395,15,-10.934529411321176,10.268206588930328,16,-11.663498038742587,10.952753694859016,17,-12.392466666163998,11.637300800787704,4,-2.9158745096856467,2.738188423714754,{"$f":"BA23+1","v":5},{"$f":"AY17","v":-0.9947595486594194},{"$f":"AZ17","v":3.8743326445145243},{"$f":"BD23+1","v":30},{"$f":"AY42","v":-3.8743326445145243},{"$f":"AZ42","v":-0.99475954865942007},{"$f":"BG23+1","v":55},{"$f":"AY67","v":0.99475954865941629},{"$f":"AZ67","v":-3.8743326445145252},{"$f":"BJ23+1","v":80},{"$f":"AY92","v":3.8743326445145243},{"$f":"AZ92","v":0.99475954865941951},14,{"$f":"スコアシート!AE10","v":-2},3,-2.1869058822642349,2.0536413177860657,14,19.5,-14.214888234717527,13.348668565609426,161,147,126]
[29,{"$f":"I3+(A27-1)*I4","v":190.8},3.330088212805181,18,-17.681170513116395,-3.3728636625430459,null,15,{"$f":"I3+(H27-1)*I4","v":140.4},2.450442269800039,5,-3.8525662138789469,3.1871199487434474,6,-4.623079456654736,3.8245439384921371,7,-5.3935926994305259,4.4619679282408269,8,-6.1641059422063149,5.0993919179895162,9,-6.9346191849821039,5.7368159077382055,10,-7.7051324277578939,6.3742398974868948,11,-8.4756456705336838,7.011663887235585,12,-9.2461589133094719,7.6490878769842743,13,-10.016672156085262,8.2865118667329636,14,-10.787185398861052,8.9239358564816538,15,-11.55769864163684,9.5613598462303422,16,-12.32821188441263,10.198783835979032,17,-13.09872512718842,10.836207825727723,4,-3.0820529711031575,2.5496959589947581,null,null,null,null,null,null,null,null,null,null,null,null,15,{"$f":"スコアシート!AG10","v":-2},3,-2.311539728327368,1.9122719692460686,15,19.5,-15.025008234127892,12.429767800099446,160,148,125]
[31,{"$f":"I3+(A28-1)*I4","v":198},3.4557519189487724,18,-17.119017293312766,-5.5623058987490515,null,16,{"$f":"I3+(H28-1)*I4","v":144},2.5132741228718345,5,-4.0450849718747364,2.9389262614623664,6,-4.8541019662496838,3.5267115137548393,7,-5.6631189606246313,4.1144967660473126,8,-6.4721359549995787,4.702282018339786,9,-7.2811529493745262,5.2900672706322593,10,-8.0901699437494727,5.8778525229247327,11,-8.8991869381244211,6.4656377752172061,12,-9.7082039324993676,7.0534230275096785,13,-10.517220926874316,7.6412082798021519,14,-11.326237921249263,8.2289935320946253,15,-12.135254915624211,8.8167787843870986,16,-12.944271909999157,9.404564036679572,17,-13.753288904374104,9.9923492889720453,4,-3.2360679774997894,2.351141009169893,{"$f":"BA25+1","v":6},{"$f":"AV18","v":-5.2532889043741049},{"$f":"AW18","v":16.167960777017612},{"$f":"BD25+1","v":31},{"$f":"AV43","v":-16.167960777017612},{"$f":"AW43","v":-5.253288904374104},{"$f":"BG25+1","v":56},{"$f":"AV68","v":5.2532889043741031},{"$f":"AW68","v":-16.167960777017612},{"$f":"BJ25+1","v":81},{"$f":"AV93","v":16.167960777017612},{"$f":"AW93","v":5.2532889043741022},16,{"$f":"スコアシート!AI10","v":-2},3,-2.4270509831248419,1.7633557568774196,16,19.5,-15.775831390311474,11.461812419703229,159,148,124]
[33,{"$f":"I3+(A29-1)*I4","v":205.2},3.5814156250923639,18,-16.286886944388353,-7.6640272481713012,null,17,{"$f":"I3+(H29-1)*I4","v":147.6},2.5761059759436304,5,-4.2216396275100756,2.6791339748949832,6,-5.06596755301209,3.2149607698739802,7,-5.9102954785141053,3.7507875648529767,8,-6.7546234040161206,4.2866143598319733,9,-7.5989513295181359,4.8224411548109698,10,-8.4432792550201512,5.3582679497899663,11,-9.2876071805221656,5.8940947447689629,12,-10.13193510602418,6.4299215397479603,13,-10.976263031526196,6.9657483347269569,14,-11.820590957028211,7.5015751297059534,15,-12.664918882530227,8.03740192468495,16,-13.509246808032241,8.5732287196639465,17,-14.353574733534256,9.1090555146429431,4,-3.3773117020080603,2.1433071799159866,{"$f":"BA26+1","v":6},{"$f":"AY18","v":-1.2360679774997894},{"$f":"AZ18","v":3.8042260651806146},{"$f":"BD26+1","v":31},{"$f":"AY43","v":-3.8042260651806146},{"$f":"AZ43","v":-1.2360679774997891},{"$f":"BG26+1","v":56},{"$f":"AY68","v":1.2360679774997889},{"$f":"AZ68","v":-3.8042260651806146},{"$f":"BJ26+1","v":81},{"$f":"AY93","v":3.8042260651806146},{"$f":"AZ93","v":1.2360679774997887},17,{"$f":"スコアシート!AK10","v":-2},3,-2.532983776506045,1.6074803849369901,17,19.5,-16.464394547289295,10.448622502090435,158,149,123]
[35,{"$f":"I3+(A30-1)*I4","v":212.4},3.7070793312359562,18,-15.19790265903627,-9.6448823096219414,null,18,{"$f":"I3+(H30-1)*I4","v":151.19999999999999},2.638937829015426,5,-4.3815334002193165,2.4087683705085778,6,-5.2578400802631799,2.8905220446102935,7,-6.1341467603070434,3.3722757187120092,8,-7.0104534403509069,3.8540293928137248,9,-7.8867601203947704,4.3357830669154405,10,-8.763066800438633,4.8175367410171557,11,-9.6393734804824973,5.2992904151188718,12,-10.51568016052636,5.781044089220587,13,-11.391986840570224,6.2627977633223031,14,-12.268293520614087,6.7445514374240183,15,-13.144600200657951,7.2263051115257344,16,-14.020906880701814,7.7080587856274496,17,-14.897213560745676,8.1898124597291648,4,-3.5052267201754534,1.9270146964068624,null,null,null,null,null,null,null,null,null,null,null,null,18,{"$f":"スコアシート!AM10","v":-2},3,-2.62892004013159,1.4452610223051467,18,19.5,-17.087980260855336,9.3941966449834542,156,149,122]
[37,{"$f":"I3+(A31-1)*I4","v":219.6},3.8327430373795477,18,-13.869238369964206,-11.473631815476413,null,19,{"$f":"I3+(H31-1)*I4","v":154.80000000000001},2.7017696820872223,5,-4.5241352623300983,2.1288964578253626,6,-5.4289623147961175,2.5546757493904351,7,-6.3337893672621366,2.9804550409555075,8,-7.2386164197281566,3.4062343325205799,9,-8.1434434721941766,3.8320136240856524,10,-9.0482705246601967,4.2577929156507253,11,-9.9530975771262149,4.6835722072157973,12,-10.857924629592235,5.1093514987808701,13,-11.762751682058255,5.5351307903459421,14,-12.667578734524273,5.960910081911015,15,-13.572405786990293,6.386689373476087,16,-14.477232839456313,6.8124686650411599,17,-15.382059891922333,7.2382479566062328,4,-3.6193082098640783,1.70311716626029,{"$f":"BA28+1","v":7},{"$f":"AV19","v":-6.2581173956395215},{"$f":"AW19","v":15.806200260100274},{"$f":"BD28+1","v":32},{"$f":"AV44","v":-15.806200260100271},{"$f":"AW44","v":-6.2581173956395313},{"$f":"BG28+1","v":57},{"$f":"AV69","v":6.2581173956395304},{"$f":"AW69","v":-15.806200260100271},{"$f":"BJ28+1","v":82},{"$f":"AV94","v":15.806200260100272},{"$f":"AW94","v":6.2581173956395295},19,{"$f":"スコアシート!AO10","v":-2},3,-2.7144811573980587,1.2773378746952175,19,19.5,-17.644127523087381,8.3026961855189132,155,150,121]
[39,{"$f":"I3+(A32-1)*I4","v":226.8},3.9584067435231396,18,-12.321847906716394,-13.121435293585408,null,20,{"$f":"I3+(H32-1)*I4","v":158.4},2.7646015351590183,5,-4.6488824294412572,1.8406227634233887,6,-5.578658915329509,2.2087473161080666,7,-6.5084354012177599,2.5768718687927441,8,-7.4382118871060117,2.944996421477422,9,-8.3679883729942635,3.3131209741620999,10,-9.2977648588825144,3.6812455268467774,11,-10.227541344770765,4.0493700795314549,12,-11.157317830659018,4.4174946322161333,13,-12.087094316547269,4.7856191849008107,14,-13.01687080243552,5.1537437375854882,15,-13.946647288323772,5.5218682902701666,16,-14.876423774212023,5.889992842954844,17,-15.806200260100274,6.2581173956395215,4,-3.7191059435530058,1.472498210738711,{"$f":"BA29+1","v":7},{"$f":"AY19","v":-1.472498210738711},{"$f":"AZ19","v":3.7191059435530058},{"$f":"BD29+1","v":32},{"$f":"AY44","v":-3.7191059435530049},{"$f":"AZ44","v":-1.4724982107387132},{"$f":"BG29+1","v":57},{"$f":"AY69","v":1.472498210738713},{"$f":"AZ69","v":-3.7191059435530049},{"$f":"BJ29+1","v":82},{"$f":"AY94","v":3.7191059435530054},{"$f":"AZ94","v":1.4724982107387128},20,{"$f":"スコアシート!AQ10","v":-2},3,-2.7893294576647545,1.1043736580540333,20,19.5,-18.130641474820905,7.1784287773512165,154,150,121]
[41,{"$f":"I3+(A33-1)*I4","v":234},4.0840704496667311,18,-10.580134541264519,-14.562305898749052,null,21,{"$f":"I3+(H33-1)*I4","v":162},2.8274333882308138,5,-4.7552825814757673,1.5450849718747375,6,-5.706339097770921,1.8541019662496852,7,-6.6573956140660746,2.1631189606246326,8,-7.6084521303612282,2.4721359549995801,9,-8.559508646656381,2.7811529493745275,10,-9.5105651629515346,3.090169943749475,11,-10.461621679246688,3.3991869381244224,12,-11.412678195541842,3.7082039324993703,13,-12.363734711836996,4.0172209268743178,14,-13.314791228132149,4.3262379212492652,15,-14.265847744427303,4.6352549156242127,16,-15.216904260722456,4.9442719099991601,17,-16.167960777017608,5.2532889043741076,4,-3.8042260651806141,1.23606797749979,null,null,null,null,null,null,null,null,null,null,null,null,21,{"$f":"スコアシート!AS10","v":-2},3,-2.8531695488854605,0.92705098312484258,21,19.5,-18.545602067755492,6.0258313903114766,153,150,121]
[43,{"$f":"I3+(A34-1)*I4","v":241.20000000000002},4.209734155810323,18,-8.6715661338308756,-15.773520240789544,null,22,{"$f":"I3+(H34-1)*I4","v":165.60000000000002},2.8902652413026102,5,-4.8429158056431563,1.2434494358242718,6,-5.8114989667717873,1.4921393229891262,7,-6.7800821279004184,1.7408292101539806,8,-7.7486652890290495,1.989519097318835,9,-8.7172484501576815,2.2382089844836894,10,-9.6858316112863125,2.4868988716485436,11,-10.654414772414944,2.7355887588133982,12,-11.622997933543575,2.9842786459782524,13,-12.591581094672206,3.2329685331431071,14,-13.560164255800837,3.4816584203079612,15,-14.528747416929468,3.7303483074728159,16,-15.497330578058099,3.9790381946376701,17,-16.465913739186732,4.2277280818025247,4,-3.8743326445145247,0.99475954865941751,{"$f":"BA31+1","v":8},{"$f":"AV20","v":-7.2382479566062363},{"$f":"AW20","v":15.382059891922331},{"$f":"BD31+1","v":33},{"$f":"AV45","v":-15.382059891922335},{"$f":"AW45","v":-7.2382479566062283},{"$f":"BG31+1","v":58},{"$f":"AV70","v":7.2382479566062488},{"$f":"AW70","v":-15.382059891922324},{"$f":"BJ31+1","v":83},{"$f":"AV95","v":15.382059891922333},{"$f":"AW95","v":7.2382479566062337},22,{"$f":"スコアシート!AU10","v":-2},3,-2.9057494833858937,0.74606966149456311,22,19.5,-18.887371642008308,4.8494527997146601,152,151,120]
[45,{"$f":"I3+(A35-1)*I4","v":248.4},4.3353978619539149,18,-6.6262419483242008,-16.735976745988527,null,23,{"$f":"I3+(H35-1)*I4","v":169.2},2.9530970943744053,5,-4.9114362536434433,0.93690657292862511,6,-5.8937235043721312,1.12428788751435,7,-6.87601075510082,1.3116692021000751,8,-7.8582980058295089,1.4990505166858001,9,-8.8405852565581977,1.6864318312715252,10,-9.8228725072868865,1.8738131458572502,11,-10.805159758015575,2.0611944604429753,12,-11.787447008744262,2.2485757750287001,13,-12.769734259472951,2.4359570896144254,14,-13.75202151020164,2.6233384042001502,15,-14.734308760930329,2.8107197187858755,16,-15.716596011659018,2.9981010333716003,17,-16.698883262387707,3.1854823479573251,4,-3.9291490029147544,0.74952525834290007,{"$f":"BA32+1","v":8},{"$f":"AY20","v":-1.7031171662602909},{"$f":"AZ20","v":3.6193082098640779},{"$f":"BD32+1","v":33},{"$f":"AY45","v":-3.6193082098640788},{"$f":"AZ45","v":-1.7031171662602891},{"$f":"BG32+1","v":58},{"$f":"AY70","v":1.7031171662602937},{"$f":"AZ70","v":-3.6193082098640765},{"$f":"BJ32+1","v":83},{"$f":"AY95","v":3.6193082098640783},{"$f":"AZ95","v":1.7031171662602902},23,{"$f":"スコアシート!AW10","v":-2},3,-2.9468617521860656,0.56214394375717502,23,19.5,-19.154601389209429,3.653935634421638,150,151,120]
[47,{"$f":"I3+(A36-1)*I4","v":255.6},4.4610615680975059,18,-4.4764179689673949,-17.434496900315356,null,24,{"$f":"I3+(H36-1)*I4","v":172.8},3.0159289474462017,5,-4.9605735065723895,0.6266661678215204,6,-5.952688207886867,0.75199940138582455,7,-6.9448029092013455,0.8773326349501287,8,-7.936917610515823,1.0026658685144327,9,-8.9290323118303014,1.1279991020787368,10,-9.921147013144779,1.2533323356430408,11,-10.913261714459257,1.3786655692073451,12,-11.905376415773734,1.5039988027716491,13,-12.897491117088212,1.6293320363359531,14,-13.889605818402691,1.7546652699002574,15,-14.881720519717168,1.8799985034645614,16,-15.873835221031646,2.0053317370288655,17,-16.865949922346125,2.1306649705931697,4,-3.9684588052579115,0.50133293425721637,null,null,null,null,null,null,null,null,null,null,null,null,24,{"$f":"スコアシート!AY10","v":-2},3,-2.9763441039434335,0.37599970069291228,24,19.5,-19.346236675632319,2.4439980545039299,149,152,120]
[49,{"$f":"I3+(A37-1)*I4","v":262.8},4.5867252742410987,18,-2.2559982041574673,-17.858064623660603,null,25,{"$f":"I3+(H37-1)*I4","v":176.4},3.0787608005179976,5,-4.990133642141358,0.31395259764656569,6,-5.9881603705696289,0.37674311717587883,7,-6.9861870989979007,0.43953363670519197,8,-7.9842138274261725,0.5023241562345051,9,-8.9822405558544443,0.56511467576381824,10,-9.980267284282716,0.62790519529313138,11,-10.978294012710988,0.69069571482244452,12,-11.976320741139258,0.75348623435175766,13,-12.97434746956753,0.81627675388107079,14,-13.972374197995801,0.87906727341038393,15,-14.970400926424073,0.94185779293969707,16,-15.968427654852345,1.0046483124690102,17,-16.966454383280617,1.0674388319983232,4,-3.9921069137130862,0.25116207811725255,{"$f":"BA34+1","v":9},{"$f":"AV21","v":-8.1898124597291559},{"$f":"AW21","v":14.897213560745683},{"$f":"BD34+1","v":34},{"$f":"AV46","v":-14.89721356074568},{"$f":"AW46","v":-8.1898124597291613},{"$f":"BG34+1","v":59},{"$f":"AV71","v":8.1898124597291666},{"$f":"AW71","v":-14.897213560745676},{"$f":"BJ34+1","v":84},{"$f":"AV96","v":14.897213560745676},{"$f":"AW96","v":8.1898124597291666},25,{"$f":"スコアシート!BA10+スコアシート!C17","v":48},53,-52.89541660669839,3.3278975350535962,25,19.5,-19.461521204351296,1.2244151308216062,148,152,120]
[51,{"$f":"I3+(A38-1)*I4","v":270},4.7123889803846897,18,-3.307900828253274E-15,-18,null,26,{"$f":"I3+(H38-1)*I4","v":180},3.1415926535897931,5,-5,6.1257422745431001E-16,6,-6,7.3508907294517201E-16,7,-7,8.5760391843603401E-16,8,-8,9.8011876392689601E-16,9,-9,1.102633609417758E-15,10,-10,1.22514845490862E-15,11,-11,1.347663300399482E-15,12,-12,1.470178145890344E-15,13,-13,1.592692991381206E-15,14,-14,1.715207836872068E-15,15,-15,1.83772268236293E-15,16,-16,1.960237527853792E-15,17,-17,2.082752373344654E-15,4,-4,4.90059381963448E-16,{"$f":"BA35+1","v":9},{"$f":"AY21","v":-1.9270146964068602},{"$f":"AZ21","v":3.5052267201754548},{"$f":"BD35+1","v":34},{"$f":"AY46","v":-3.5052267201754539},{"$f":"AZ46","v":-1.9270146964068615},{"$f":"BG35+1","v":59},{"$f":"AY71","v":1.9270146964068628},{"$f":"AZ71","v":-3.5052267201754534},{"$f":"BJ35+1","v":84},{"$f":"AY96","v":3.5052267201754534},{"$f":"AZ96","v":1.9270146964068626},26,{"$f":"スコアシート!E17+スコアシート!BC10","v":48},53,-53,6.4932868110156861E-15,26,19.5,-19.5,2.389039487071809E-15,146,152,120]
[53,{"$f":"I3+(A39-1)*I4","v":277.20000000000005},4.8380526865282825,18,2.2559982041574922,-17.858064623660599,null,27,{"$f":"I3+(H39-1)*I4","v":183.60000000000002},3.2044245066615895,5,-4.990133642141358,-0.31395259764656891,6,-5.9881603705696289,-0.37674311717588266,7,-6.9861870989979007,-0.43953363670519641,8,-7.9842138274261725,-0.50232415623451021,9,-8.9822405558544443,-0.56511467576382401,10,-9.980267284282716,-0.62790519529313782,11,-10.978294012710988,-0.69069571482245151,12,-11.976320741139258,-0.75348623435176532,13,-12.97434746956753,-0.81627675388107912,14,-13.972374197995801,-0.87906727341039281,15,-14.970400926424073,-0.94185779293970662,16,-15.968427654852345,-1.0046483124690204,17,-16.966454383280617,-1.0674388319983341,4,-3.9921069137130862,-0.25116207811725511,null,null,null,null,null,null,null,null,null,null,null,null,27,{"$f":"スコアシート!G17","v":-2},3,-2.9940801852848145,-0.18837155858794133,27,19.5,-19.461521204351296,-1.2244151308216187,145,153,121]
[55,{"$f":"I3+(A40-1)*I4","v":284.39999999999998},4.9637163926718726,18,4.4764179689673735,-17.434496900315363,null,28,{"$f":"I3+(H40-1)*I4","v":187.2},3.2672563597333846,5,-4.9605735065723895,-0.62666616782151918,6,-5.952688207886867,-0.75199940138582311,7,-6.9448029092013455,-0.87733263495012692,8,-7.936917610515823,-1.0026658685144307,9,-8.9290323118303014,-1.1279991020787346,10,-9.921147013144779,-1.2533323356430384,11,-10.913261714459257,-1.3786655692073422,12,-11.905376415773734,-1.5039988027716462,13,-12.897491117088212,-1.62933203633595,14,-13.889605818402691,-1.7546652699002538,15,-14.881720519717168,-1.8799985034645577,16,-15.873835221031646,-2.0053317370288615,17,-16.865949922346125,-2.1306649705931653,4,-3.9684588052579115,-0.50133293425721537,{"$f":"BA37+1","v":10},{"$f":"AV22","v":-9.1090555146429466},{"$f":"AW22","v":14.353574733534254},{"$f":"BD37+1","v":35},{"$f":"AV47","v":-14.353574733534254},{"$f":"AW47","v":-9.1090555146429448},{"$f":"BG37+1","v":60},{"$f":"AV72","v":9.1090555146429324},{"$f":"AW72","v":-14.353574733534264},{"$f":"BJ37+1","v":85},{"$f":"AV97","v":14.353574733534256},{"$f":"AW97","v":9.1090555146429431},28,{"$f":"スコアシート!I17","v":-2},3,-2.9763441039434335,-0.37599970069291155,28,19.5,-19.346236675632319,-2.443998054503925,144,153,121]
[57,{"$f":"I3+(A41-1)*I4","v":291.60000000000002},5.0893800988154654,18,6.6262419483242088,-16.735976745988523,null,29,{"$f":"I3+(H41-1)*I4","v":190.8},3.330088212805181,5,-4.9114362536434433,-0.93690657292862389,6,-5.8937235043721312,-1.1242878875143485,7,-6.87601075510082,-1.3116692021000733,8,-7.8582980058295089,-1.4990505166857981,9,-8.8405852565581977,-1.686431831271523,10,-9.8228725072868865,-1.8738131458572478,11,-10.805159758015575,-2.0611944604429726,12,-11.787447008744262,-2.248575775028697,13,-12.769734259472951,-2.4359570896144218,14,-13.75202151020164,-2.6233384042001466,15,-14.734308760930329,-2.8107197187858715,16,-15.716596011659018,-2.9981010333715963,17,-16.698883262387707,-3.1854823479573211,4,-3.9291490029147544,-0.74952525834289907,{"$f":"BA38+1","v":10},{"$f":"AY22","v":-2.1433071799159875},{"$f":"AZ22","v":3.3773117020080599},{"$f":"BD38+1","v":35},{"$f":"AY47","v":-3.3773117020080599},{"$f":"AZ47","v":-2.1433071799159871},{"$f":"BG38+1","v":60},{"$f":"AY72","v":2.143307179915984},{"$f":"AZ72","v":-3.3773117020080621},{"$f":"BJ38+1","v":85},{"$f":"AY97","v":3.3773117020080603},{"$f":"AZ97","v":2.1433071799159866},29,{"$f":"スコアシート!K17","v":-2},3,-2.9468617521860656,-0.56214394375717425,29,19.5,-19.154601389209429,-3.6539356344216332,143,153,122]
[59,{"$f":"I3+(A42-1)*I4","v":298.8},5.2150438049590573,18,8.6715661338308827,-15.773520240789541,null,30,{"$f":"I3+(H42-1)*I4","v":194.4},3.3929200658769769,5,-4.8429158056431554,-1.2434494358242751,6,-5.8114989667717865,-1.49213932298913,7,-6.7800821279004175,-1.7408292101539851,8,-7.7486652890290486,-1.9895190973188401,9,-8.7172484501576797,-2.2382089844836952,10,-9.6858316112863108,-2.4868988716485503,11,-10.654414772414942,-2.7355887588134054,12,-11.622997933543573,-2.98427864597826,13,-12.591581094672204,-3.2329685331431151,14,-13.560164255800835,-3.4816584203079701,15,-14.528747416929466,-3.7303483074728252,16,-15.497330578058097,-3.9790381946376803,17,-16.465913739186728,-4.2277280818025353,4,-3.8743326445145243,-0.99475954865942007,null,null,null,null,null,null,null,null,null,null,null,null,30,{"$f":"スコアシート!M17","v":-2},3,-2.9057494833858932,-0.746069661494565,30,19.5,-18.887371642008304,-4.8494527997146726,141,154,122]
[61,{"$f":"I3+(A43-1)*I4","v":306},5.3407075111026483,18,10.580134541264513,-14.562305898749056,null,31,{"$f":"I3+(H43-1)*I4","v":198},3.4557519189487724,5,-4.7552825814757682,-1.5450849718747364,6,-5.7063390977709219,-1.8541019662496838,7,-6.6573956140660755,-2.1631189606246308,8,-7.6084521303612291,-2.4721359549995783,9,-8.5595086466563828,-2.7811529493745257,10,-9.5105651629515364,-3.0901699437494727,11,-10.46162167924669,-3.3991869381244202,12,-11.412678195541844,-3.7082039324993676,13,-12.363734711836997,-4.0172209268743151,14,-13.314791228132151,-4.3262379212492617,15,-14.265847744427305,-4.6352549156242091,16,-15.216904260722458,-4.9442719099991566,17,-16.167960777017612,-5.253288904374104,4,-3.8042260651806146,-1.2360679774997891,{"$f":"BA40+1","v":11},{"$f":"AV23","v":-9.9923492889720418},{"$f":"AW23","v":13.753288904374106},{"$f":"BD40+1","v":36},{"$f":"AV48","v":-13.753288904374109},{"$f":"AW48","v":-9.9923492889720418},{"$f":"BG40+1","v":61},{"$f":"AV73","v":9.99234928897204},{"$f":"AW73","v":-13.753288904374109},{"$f":"BJ40+1","v":86},{"$f":"AV98","v":13.753288904374109},{"$f":"AW98","v":9.99234928897204},31,{"$f":"スコアシート!O17","v":-2},3,-2.8531695488854609,-0.92705098312484191,31,19.5,-18.545602067755496,-6.0258313903114722,140,154,123]
[63,{"$f":"I3+(A44-1)*I4","v":313.20000000000005},5.4663712172462411,18,12.321847906716407,-13.121435293585396,null,32,{"$f":"I3+(H44-1)*I4","v":201.60000000000002},3.5185837720205688,5,-4.6488824294412563,-1.8406227634233916,6,-5.5786589153295072,-2.2087473161080697,7,-6.508435401217759,-2.5768718687927481,8,-7.4382118871060099,-2.9449964214774265,9,-8.3679883729942617,-3.3131209741621048,10,-9.2977648588825126,-3.6812455268467832,11,-10.227541344770763,-4.0493700795314611,12,-11.157317830659014,-4.4174946322161395,13,-12.087094316547265,-4.7856191849008178,14,-13.016870802435518,-5.1537437375854962,15,-13.946647288323769,-5.5218682902701746,16,-14.87642377421202,-5.8899928429548529,17,-15.806200260100271,-6.2581173956395313,4,-3.7191059435530049,-1.4724982107387132,{"$f":"BA41+1","v":11},{"$f":"AY23","v":-2.3511410091698921},{"$f":"AZ23","v":3.2360679774997898},{"$f":"BD41+1","v":36},{"$f":"AY48","v":-3.2360679774997902},{"$f":"AZ48","v":-2.3511410091698921},{"$f":"BG41+1","v":61},{"$f":"AY73","v":2.3511410091698917},{"$f":"AZ73","v":-3.2360679774997902},{"$f":"BJ41+1","v":86},{"$f":"AY98","v":3.2360679774997902},{"$f":"AZ98","v":2.3511410091698917},32,{"$f":"スコアシート!Q17","v":-2},3,-2.7893294576647536,-1.1043736580540349,32,19.5,-18.130641474820898,-7.1784287773512272,139,154,124]
[65,{"$f":"I3+(A45-1)*I4","v":320.39999999999998},5.5920349233898312,18,13.869238369964197,-11.473631815476425,null,33,{"$f":"I3+(H45-1)*I4","v":205.2},3.5814156250923639,5,-4.5241352623300983,-2.1288964578253613,6,-5.4289623147961183,-2.5546757493904337,7,-6.3337893672621375,-2.9804550409555057,8,-7.2386164197281575,-3.4062343325205782,9,-8.1434434721941766,-3.8320136240856506,10,-9.0482705246601967,-4.2577929156507226,11,-9.9530975771262167,-4.6835722072157946,12,-10.857924629592237,-5.1093514987808675,13,-11.762751682058257,-5.5351307903459395,14,-12.667578734524275,-5.9609100819110115,15,-13.572405786990295,-6.3866893734760843,16,-14.477232839456315,-6.8124686650411563,17,-15.382059891922335,-7.2382479566062283,4,-3.6193082098640788,-1.7031171662602891,null,null,null,null,null,null,null,null,null,null,null,null,33,{"$f":"スコアシート!S17","v":-2},3,-2.7144811573980592,-1.2773378746952169,33,19.5,{"$f":"BS45*COS(J45)","v":-17.644127523087384},{"$f":"BS45*SIN(J45)","v":-8.3026961855189096},137,154,125]
[67,{"$f":"I3+(A46-1)*I4","v":327.60000000000002},5.717698629533424,18,15.197902659036275,-9.6448823096219343,null,34,{"$f":"I3+(H46-1)*I4","v":208.8},3.6442474781641603,5,-4.3815334002193174,-2.408768370508577,6,-5.2578400802631808,-2.8905220446102922,7,-6.1341467603070443,-3.3722757187120078,8,-7.0104534403509078,-3.854029392813723,9,-7.8867601203947713,-4.3357830669154387,10,-8.7630668004386347,-4.8175367410171539,11,-9.6393734804824973,-5.2992904151188691,12,-10.515680160526362,-5.7810440892205843,13,-11.391986840570226,-6.2627977633222995,14,-12.268293520614089,-6.7445514374240156,15,-13.144600200657951,-7.2263051115257309,16,-14.020906880701816,-7.7080587856274461,17,-14.89721356074568,-8.1898124597291613,4,-3.5052267201754539,-1.9270146964068615,{"$f":"BA43+1","v":12},{"$f":"AV24","v":-10.836207825727726},{"$f":"AW24","v":13.098725127188418},{"$f":"BD43+1","v":37},{"$f":"AV49","v":-13.098725127188418},{"$f":"AW49","v":-10.836207825727724},{"$f":"BG43+1","v":62},{"$f":"AV74","v":10.83620782572773},{"$f":"AW74","v":-13.098725127188413},{"$f":"BJ43+1","v":87},{"$f":"AV99","v":13.098725127188413},{"$f":"AW99","v":10.836207825727728},34,{"$f":"スコアシート!U17","v":-2},3,-2.6289200401315904,-1.4452610223051461,34,19.5,-17.087980260855339,-9.3941966449834506,136,155,126]
[69,{"$f":"I3+(A47-1)*I4","v":334.8},5.8433623356770159,18,16.286886944388353,-7.6640272481712994,null,35,{"$f":"I3+(H47-1)*I4","v":212.4},3.7070793312359562,5,-4.2216396275100747,-2.6791339748949836,6,-5.06596755301209,-3.2149607698739806,7,-5.9102954785141044,-3.7507875648529776,8,-6.7546234040161197,-4.2866143598319741,9,-7.598951329518135,-4.8224411548109707,10,-8.4432792550201494,-5.3582679497899672,11,-9.2876071805221638,-5.8940947447689647,12,-10.13193510602418,-6.4299215397479612,13,-10.976263031526194,-6.9657483347269578,14,-11.820590957028209,-7.5015751297059552,15,-12.664918882530225,-8.0374019246849517,16,-13.509246808032239,-8.5732287196639483,17,-14.353574733534254,-9.1090555146429448,4,-3.3773117020080599,-2.1433071799159871,{"$f":"BA44+1","v":12},{"$f":"AY24","v":-2.549695958994759},{"$f":"AZ24","v":3.082052971103157},{"$f":"BD44+1","v":37},{"$f":"AY49","v":-3.082052971103157},{"$f":"AZ49","v":-2.5496959589947585},{"$f":"BG44+1","v":62},{"$f":"AY74","v":2.5496959589947599},{"$f":"AZ74","v":-3.0820529711031561},{"$f":"BJ44+1","v":87},{"$f":"AY99","v":3.0820529711031561},{"$f":"AZ99","v":2.5496959589947594},35,{"$f":"スコアシート!W17","v":-2},3,-2.532983776506045,-1.6074803849369903,35,19.5,-16.464394547289292,-10.448622502090437,135,155,127]
[71,{"$f":"I3+(A48-1)*I4","v":342},5.9690260418206069,18,17.119017293312762,-5.5623058987490568,null,36,{"$f":"I3+(H48-1)*I4","v":216},3.7699111843077517,5,-4.0450849718747381,-2.938926261462365,6,-4.8541019662496856,-3.5267115137548384,7,-5.663118960624633,-4.1144967660473108,8,-6.4721359549995805,-4.7022820183397842,9,-7.2811529493745279,-5.2900672706322576,10,-8.0901699437494763,-5.87785252292473,11,-8.8991869381244229,-6.4656377752172034,12,-9.7082039324993712,-7.0534230275096768,13,-10.517220926874318,-7.6412082798021492,14,-11.326237921249266,-8.2289935320946217,15,-12.135254915624213,-8.8167787843870951,16,-12.944271909999161,-9.4045640366795684,17,-13.753288904374109,-9.9923492889720418,4,-3.2360679774997902,-2.3511410091698921,null,null,null,null,null,null,null,null,null,null,null,null,36,{"$f":"スコアシート!Y17","v":-2},{"$f":"$I$7+BN48*$I$8","v":3},-2.4270509831248428,-1.7633557568774192,36,19.5,-15.775831390311478,-11.461812419703223,134,155,129]
[73,{"$f":"I3+(A49-1)*I4","v":349.2},6.0946897479641988,18,17.681170513116395,-3.3728636625430441,null,37,{"$f":"I3+(H49-1)*I4","v":219.6},3.8327430373795477,5,-3.852566213878946,-3.1871199487434483,6,-4.623079456654736,-3.8245439384921376,7,-5.393592699430525,-4.4619679282408278,8,-6.164105942206314,-5.0993919179895171,9,-6.9346191849821031,-5.7368159077382064,10,-7.7051324277578921,-6.3742398974868966,11,-8.475645670533682,-7.0116638872355859,12,-9.2461589133094719,-7.6490878769842752,13,-10.01667215608526,-8.2865118667329654,14,-10.78718539886105,-8.9239358564816555,15,-11.557698641636838,-9.561359846230344,16,-12.328211884412628,-10.198783835979034,17,-13.098725127188418,-10.836207825727724,4,-3.082052971103157,-2.5496959589947585,{"$f":"BA46+1","v":13},{"$f":"AV25","v":-11.637300800787703},{"$f":"AW25","v":12.392466666164001},{"$f":"BD46+1","v":38},{"$f":"AV50","v":-12.392466666163996},{"$f":"AW50","v":-11.637300800787708},{"$f":"BG46+1","v":63},{"$f":"AV75","v":11.637300800787719},{"$f":"AW75","v":-12.392466666163985},{"$f":"BJ46+1","v":88},{"$f":"AV100","v":12.392466666163996},{"$f":"AW100","v":11.637300800787706},37,{"$f":"スコアシート!AA17","v":-2},3,-2.311539728327368,-1.9122719692460688,37,19.5,-15.02500823412789,-12.429767800099448,133,155,130]
[75,{"$f":"I3+(A50-1)*I4","v":356.40000000000003},6.2203534541077907,18,17.964481111708889,-1.1302293515276387,null,38,{"$f":"I3+(H50-1)*I4","v":223.20000000000002},3.8955748904513436,5,-3.644843137107058,-3.4227355296434436,6,-4.3738117645284689,-4.1072826355721324,7,-5.1027803919498806,-4.7918297415008215,8,-5.8317490193712924,-5.4763768474295098,9,-6.5607176467927042,-6.1609239533581981,10,-7.289686274214116,-6.8454710592868873,11,-8.0186549016355269,-7.5300181652155764,12,-8.7476235290569377,-8.2145652711442647,13,-9.4765921564783504,-8.899112377072953,14,-10.205560783899761,-9.5836594830016431,15,-10.934529411321174,-10.268206588930331,16,-11.663498038742585,-10.95275369485902,17,-12.392466666163996,-11.637300800787708,4,-2.9158745096856462,-2.7381884237147549,{"$f":"BA47+1","v":13},{"$f":"AY25","v":-2.7381884237147536},{"$f":"AZ25","v":2.9158745096856471},{"$f":"BD47+1","v":38},{"$f":"AY50","v":-2.9158745096856462},{"$f":"AZ50","v":-2.7381884237147549},{"$f":"BG47+1","v":63},{"$f":"AY75","v":2.7381884237147571},{"$f":"AZ75","v":-2.9158745096856435},{"$f":"BJ47+1","v":88},{"$f":"AY100","v":2.9158745096856462},{"$f":"AZ100","v":2.7381884237147545},38,{"$f":"スコアシート!AC17","v":-2},3,-2.1869058822642344,-2.0536413177860662,38,19.5,-14.214888234717526,-13.348668565609429,132,155,131]
[77,{"$f":"I3+(A51-1)*I4","v":363.6},6.3460171602513826,18,17.964481111708889,1.130229351527646,null,39,{"$f":"I3+(H51-1)*I4","v":226.8},3.9584067435231396,5,-3.4227355296434432,-3.644843137107058,6,-4.1072826355721315,-4.3738117645284689,7,-4.7918297415008206,-5.1027803919498806,8,-5.4763768474295089,-5.8317490193712924,9,-6.1609239533581972,-6.5607176467927042,10,-6.8454710592868864,-7.289686274214116,11,-7.5300181652155747,-8.0186549016355269,12,-8.2145652711442629,-8.7476235290569377,13,-8.8991123770729512,-9.4765921564783504,14,-9.5836594830016413,-10.205560783899761,15,-10.26820658893033,-10.934529411321174,16,-10.952753694859018,-11.663498038742585,17,-11.637300800787706,-12.392466666163996,4,-2.7381884237147545,-2.9158745096856462,null,null,null,null,null,null,null,null,null,null,null,null,39,{"$f":"スコアシート!AE17","v":-2},3,-2.0536413177860657,-2.1869058822642344,39,19.5,-13.348668565609428,-14.214888234717526,130,155,133]
[79,{"$f":"I3+(A52-1)*I4","v":370.8},6.4716808663949745,18,17.681170513116395,3.3728636625430513,null,40,{"$f":"I3+(H52-1)*I4","v":230.4},4.0212385965949355,5,-3.1871199487434474,-3.8525662138789469,6,-3.8245439384921371,-4.623079456654736,7,-4.4619679282408269,-5.3935926994305259,8,-5.0993919179895162,-6.1641059422063149,9,-5.7368159077382055,-6.9346191849821039,10,-6.3742398974868948,-7.7051324277578939,11,-7.011663887235585,-8.4756456705336838,12,-7.6490878769842743,-9.2461589133094719,13,-8.2865118667329636,-10.016672156085262,14,-8.9239358564816538,-10.787185398861052,15,-9.5613598462303422,-11.55769864163684,16,-10.198783835979032,-12.32821188441263,17,-10.836207825727723,-13.09872512718842,4,-2.5496959589947581,-3.0820529711031575,{"$f":"BA49+1","v":14},{"$f":"AV26","v":-12.392466666163998},{"$f":"AW26","v":11.637300800787704},{"$f":"BD49+1","v":39},{"$f":"AV51","v":-11.637300800787706},{"$f":"AW51","v":-12.392466666163996},{"$f":"BG49+1","v":64},{"$f":"AV76","v":12.392466666164003},{"$f":"AW76","v":-11.637300800787701},{"$f":"BJ49+1","v":89},{"$f":"AV101","v":11.637300800787703},{"$f":"AW101","v":12.392466666164001},40,{"$f":"スコアシート!AG17","v":-2},3,-1.9122719692460686,-2.311539728327368,40,19.5,-12.429767800099446,-15.025008234127892,130,156,134]
[81,{"$f":"I3+(A53-1)*I4","v":378},6.5973445725385655,18,17.119017293312766,5.5623058987490488,null,41,{"$f":"I3+(H53-1)*I4","v":234},4.0840704496667311,5,-2.9389262614623664,-4.0450849718747364,6,-3.5267115137548393,-4.8541019662496838,7,-4.1144967660473126,-5.6631189606246313,8,-4.702282018339786,-6.4721359549995787,9,-5.2900672706322593,-7.2811529493745262,10,-5.8778525229247327,-8.0901699437494727,11,-6.4656377752172061,-8.8991869381244211,12,-7.0534230275096785,-9.7082039324993676,13,-7.6412082798021519,-10.517220926874316,14,-8.2289935320946253,-11.326237921249263,15,-8.8167787843870986,-12.135254915624211,16,-9.404564036679572,-12.944271909999157,17,-9.9923492889720453,-13.753288904374104,4,-2.351141009169893,-3.2360679774997894,{"$f":"BA50+1","v":14},{"$f":"AY26","v":-2.9158745096856467},{"$f":"AZ26","v":2.738188423714754},{"$f":"BD50+1","v":39},{"$f":"AY51","v":-2.7381884237147545},{"$f":"AZ51","v":-2.9158745096856462},{"$f":"BG50+1","v":64},{"$f":"AY76","v":2.9158745096856475},{"$f":"AZ76","v":-2.7381884237147531},{"$f":"BJ50+1","v":89},{"$f":"AY101","v":2.7381884237147536},{"$f":"AZ101","v":2.9158745096856471},41,{"$f":"スコアシート!AI17","v":-2},3,-1.7633557568774196,-2.4270509831248419,41,19.5,-11.461812419703229,-15.775831390311474,129,156,136]
[83,{"$f":"I3+(A54-1)*I4","v":385.2},6.7230082786821574,18,16.286886944388353,7.6640272481713057,null,42,{"$f":"I3+(H54-1)*I4","v":237.6},4.1469023027385266,5,-2.6791339748949854,-4.2216396275100738,6,-3.2149607698739828,-5.0659675530120891,7,-3.7507875648529798,-5.9102954785141044,8,-4.2866143598319768,-6.7546234040161188,9,-4.8224411548109742,-7.5989513295181332,10,-5.3582679497899708,-8.4432792550201476,11,-5.8940947447689682,-9.2876071805221638,12,-6.4299215397479657,-10.131935106024178,13,-6.9657483347269622,-10.976263031526193,14,-7.5015751297059596,-11.820590957028209,15,-8.0374019246849571,-12.664918882530223,16,-8.5732287196639536,-13.509246808032238,17,-9.1090555146429502,-14.353574733534252,4,-2.1433071799159884,-3.3773117020080594,null,null,null,null,null,null,null,null,null,null,null,null,42,{"$f":"スコアシート!AK17","v":-2},3,-1.6074803849369914,-2.5329837765060446,42,19.5,-10.448622502090444,-16.464394547289288,128,156,137]
[85,{"$f":"I3+(A55-1)*I4","v":392.40000000000003},6.8486719848257493,18,15.197902659036272,9.6448823096219396,null,43,{"$f":"I3+(H55-1)*I4","v":241.20000000000002},4.209734155810323,5,-2.4087683705085765,-4.3815334002193183,6,-2.8905220446102917,-5.2578400802631817,7,-3.3722757187120069,-6.1341467603070452,8,-3.8540293928137221,-7.0104534403509087,9,-4.3357830669154378,-7.8867601203947721,10,-4.817536741017153,-8.7630668004386365,11,-5.2992904151188682,-9.6393734804824991,12,-5.7810440892205834,-10.515680160526363,13,-6.2627977633222986,-11.391986840570226,14,-6.7445514374240139,-12.26829352061409,15,-7.2263051115257291,-13.144600200657953,16,-7.7080587856274443,-14.020906880701817,17,-8.1898124597291595,-14.897213560745682,4,-1.9270146964068611,-3.5052267201754543,{"$f":"BA52+1","v":15},{"$f":"AV27","v":-13.09872512718842},{"$f":"AW27","v":10.836207825727723},{"$f":"BD52+1","v":40},{"$f":"AV52","v":-10.836207825727723},{"$f":"AW52","v":-13.09872512718842},{"$f":"BG52+1","v":65},{"$f":"AV77","v":13.098725127188407},{"$f":"AW77","v":-10.836207825727735},{"$f":"BJ52+1","v":90},{"$f":"AV102","v":10.836207825727724},{"$f":"AW102","v":13.098725127188418},43,{"$f":"スコアシート!AM17","v":-2},3,-1.4452610223051459,-2.6289200401315909,43,19.5,-9.3941966449834471,-17.087980260855339,127,156,139]
[87,{"$f":"I3+(A56-1)*I4","v":399.6},6.9743356909693413,18,13.869238369964203,11.473631815476418,null,44,{"$f":"I3+(H56-1)*I4","v":244.8},4.2725660088821193,5,-2.1288964578253609,-4.5241352623300992,6,-2.5546757493904328,-5.4289623147961183,7,-2.9804550409555053,-6.3337893672621384,8,-3.4062343325205773,-7.2386164197281584,9,-3.8320136240856493,-8.1434434721941784,10,-4.2577929156507217,-9.0482705246601984,11,-4.6835722072157937,-9.9530975771262185,12,-5.1093514987808657,-10.857924629592237,13,-5.5351307903459377,-11.762751682058257,14,-5.9609100819110106,-12.667578734524277,15,-6.3866893734760826,-13.572405786990297,16,-6.8124686650411546,-14.477232839456317,17,-7.2382479566062266,-15.382059891922337,4,-1.7031171662602886,-3.6193082098640792,{"$f":"BA53+1","v":15},{"$f":"AY27","v":-3.0820529711031575},{"$f":"AZ27","v":2.5496959589947581},{"$f":"BD53+1","v":40},{"$f":"AY52","v":-2.5496959589947581},{"$f":"AZ52","v":-3.0820529711031575},{"$f":"BG53+1","v":65},{"$f":"AY77","v":3.0820529711031548},{"$f":"AZ77","v":-2.5496959589947612},{"$f":"BJ53+1","v":90},{"$f":"AY102","v":2.5496959589947585},{"$f":"AZ102","v":3.082052971103157},44,{"$f":"スコアシート!AO17","v":-2},3,-1.2773378746952164,-2.7144811573980592,44,19.5,-8.3026961855189079,-17.644127523087388,126,156,141]
[89,{"$f":"I3+(A57-1)*I4","v":406.8},7.0999993971129332,18,12.321847906716391,13.121435293585412,null,45,{"$f":"I3+(H57-1)*I4","v":248.4},4.3353978619539149,5,-1.8406227634233892,-4.6488824294412572,6,-2.2087473161080666,-5.578658915329509,7,-2.5768718687927445,-6.5084354012177599,8,-2.9449964214774225,-7.4382118871060117,9,-3.3131209741621004,-8.3679883729942635,10,-3.6812455268467783,-9.2977648588825144,11,-4.0493700795314558,-10.227541344770765,12,-4.4174946322161333,-11.157317830659018,13,-4.7856191849008116,-12.087094316547269,14,-5.1537437375854891,-13.01687080243552,15,-5.5218682902701675,-13.946647288323772,16,-5.8899928429548449,-14.876423774212023,17,-6.2581173956395224,-15.806200260100274,4,-1.4724982107387112,-3.7191059435530058,null,null,null,null,null,null,null,null,null,null,null,null,45,{"$f":"スコアシート!AQ17","v":-2},3,-1.1043736580540333,-2.7893294576647545,45,19.5,-7.1784287773512174,-18.130641474820905,126,156,143]
[91,{"$f":"I3+(A58-1)*I4","v":414},7.2256631032565242,18,10.58013454126452,14.562305898749051,null,46,{"$f":"I3+(H58-1)*I4","v":252},4.3982297150257104,5,-1.5450849718747377,-4.7552825814757673,6,-1.8541019662496854,-5.706339097770921,7,-2.163118960624633,-6.6573956140660746,8,-2.4721359549995805,-7.6084521303612282,9,-2.7811529493745279,-8.559508646656381,10,-3.0901699437494754,-9.5105651629515346,11,-3.3991869381244233,-10.461621679246688,12,-3.7082039324993707,-11.412678195541842,13,-4.0172209268743186,-12.363734711836996,14,-4.3262379212492661,-13.314791228132149,15,-4.6352549156242135,-14.265847744427303,16,-4.944271909999161,-15.216904260722456,17,-5.2532889043741084,-16.167960777017608,4,-1.2360679774997902,-3.8042260651806141,{"$f":"BA55+1","v":16},{"$f":"AV28","v":-13.753288904374104},{"$f":"AW28","v":9.9923492889720453},{"$f":"BD55+1","v":41},{"$f":"AV53","v":-9.9923492889720453},{"$f":"AW53","v":-13.753288904374104},{"$f":"BG55+1","v":66},{"$f":"AV78","v":13.753288904374104},{"$f":"AW78","v":-9.9923492889720471},{"$f":"BJ55+1","v":91},{"$f":"AV103","v":9.9923492889720471},{"$f":"AW103","v":13.753288904374102},46,{"$f":"スコアシート!AS17","v":-2},3,-0.92705098312484269,-2.8531695488854605,46,19.5,-6.0258313903114775,-18.545602067755492,125,156,144]
[93,{"$f":"I3+(A59-1)*I4","v":421.2},7.3513268094001161,18,8.6715661338308774,15.773520240789544,null,47,{"$f":"I3+(H59-1)*I4","v":255.6},4.4610615680975059,5,-1.2434494358242765,-4.8429158056431545,6,-1.4921393229891318,-5.8114989667717856,7,-1.7408292101539871,-6.7800821279004166,8,-1.9895190973188424,-7.7486652890290477,9,-2.2382089844836974,-8.7172484501576779,10,-2.4868988716485529,-9.685831611286309,11,-2.7355887588134085,-10.65441477241494,12,-2.9842786459782635,-11.622997933543571,13,-3.2329685331431186,-12.591581094672202,14,-3.4816584203079741,-13.560164255800833,15,-3.7303483074728296,-14.528747416929464,16,-3.9790381946376847,-15.497330578058095,17,-4.2277280818025398,-16.465913739186725,4,-0.99475954865942118,-3.8743326445145239,{"$f":"BA56+1","v":16},{"$f":"AY28","v":-3.2360679774997894},{"$f":"AZ28","v":2.351141009169893},{"$f":"BD56+1","v":41},{"$f":"AY53","v":-2.351141009169893},{"$f":"AZ53","v":-3.2360679774997894},{"$f":"BG56+1","v":66},{"$f":"AY78","v":3.2360679774997894},{"$f":"AZ78","v":-2.3511410091698934},{"$f":"BJ56+1","v":91},{"$f":"AY103","v":2.3511410091698934},{"$f":"AZ103","v":3.2360679774997889},47,{"$f":"スコアシート!AU17","v":-2},3,-0.74606966149456588,-2.9057494833858928,47,19.5,-4.8494527997146779,-18.887371642008304,125,156,146]
[95,{"$f":"I3+(A60-1)*I4","v":428.40000000000003},7.476990515543708,18,6.6262419483242025,16.735976745988527,null,48,{"$f":"I3+(H60-1)*I4","v":259.20000000000005},4.5238934211693032,5,-0.93690657292861879,-4.9114362536434442,6,-1.1242878875143427,-5.893723504372133,7,-1.3116692021000664,-6.8760107551008218,8,-1.4990505166857901,-7.8582980058295107,9,-1.6864318312715139,-8.8405852565581995,10,-1.8738131458572376,-9.8228725072868883,11,-2.0611944604429615,-10.805159758015577,12,-2.2485757750286854,-11.787447008744266,13,-2.4359570896144089,-12.769734259472955,14,-2.6233384042001329,-13.752021510201644,15,-2.8107197187858564,-14.734308760930332,16,-2.9981010333715803,-15.716596011659021,17,-3.1854823479573042,-16.69888326238771,4,-0.74952525834289507,-3.9291490029147553,null,null,null,null,null,null,null,null,null,null,null,null,48,{"$f":"スコアシート!AW17","v":-2},3,-0.56214394375717136,-2.9468617521860665,48,19.5,-3.6539356344216136,-19.154601389209432,125,155,148]
[97,{"$f":"I3+(A61-1)*I4","v":435.6},7.6026542216872999,18,4.4764179689673824,17.434496900315363,null,49,{"$f":"I3+(H61-1)*I4","v":262.8},4.5867252742410987,5,-0.62666616782151863,-4.9605735065723895,6,-0.75199940138582244,-5.952688207886867,7,-0.87733263495012614,-6.9448029092013455,8,-1.0026658685144298,-7.936917610515823,9,-1.1279991020787337,-8.9290323118303014,10,-1.2533323356430373,-9.921147013144779,11,-1.3786655692073411,-10.913261714459257,12,-1.5039988027716449,-11.905376415773734,13,-1.6293320363359485,-12.897491117088212,14,-1.7546652699002523,-13.889605818402691,15,-1.8799985034645559,-14.881720519717168,16,-2.0053317370288597,-15.873835221031646,17,-2.1306649705931635,-16.865949922346125,4,-0.50133293425721492,-3.9684588052579115,{"$f":"BA58+1","v":17},{"$f":"AV29","v":-14.353574733534256},{"$f":"AW29","v":9.1090555146429431},{"$f":"BD58+1","v":42},{"$f":"AV54","v":-9.1090555146429502},{"$f":"AW54","v":-14.353574733534252},{"$f":"BG58+1","v":67},{"$f":"AV79","v":14.353574733534259},{"$f":"AW79","v":-9.1090555146429377},{"$f":"BJ58+1","v":92},{"$f":"AV104","v":9.1090555146429395},{"$f":"AW104","v":14.353574733534257},49,{"$f":"スコアシート!AY17","v":-2},3,-0.37599970069291122,-2.9763441039434335,49,19.5,-2.4439980545039228,-19.346236675632319,124,155,149]
[99,{"$f":"I3+(A62-1)*I4","v":442.8},7.7283179278308918,18,2.2559982041574691,17.858064623660603,null,50,{"$f":"I3+(H62-1)*I4","v":266.39999999999998},4.6495571273128933,5,-0.31395259764657046,-4.990133642141358,6,-0.3767431171758846,-5.9881603705696289,7,-0.43953363670519868,-6.9861870989979007,8,-0.50232415623451276,-7.9842138274261725,9,-0.5651146757638269,-8.9822405558544443,10,-0.62790519529314093,-9.980267284282716,11,-0.69069571482245506,-10.978294012710988,12,-0.7534862343517692,-11.976320741139258,13,-0.81627675388108323,-12.97434746956753,14,-0.87906727341039737,-13.972374197995801,15,-0.94185779293971139,-14.970400926424073,16,-1.0046483124690255,-15.968427654852345,17,-1.0674388319983397,-16.966454383280617,4,-0.25116207811725638,-3.9921069137130862,{"$f":"BA59+1","v":17},{"$f":"AY29","v":-3.3773117020080603},{"$f":"AZ29","v":2.1433071799159866},{"$f":"BD59+1","v":42},{"$f":"AY54","v":-2.1433071799159884},{"$f":"AZ54","v":-3.3773117020080594},{"$f":"BG59+1","v":67},{"$f":"AY79","v":3.3773117020080612},{"$f":"AZ79","v":-2.1433071799159853},{"$f":"BJ59+1","v":92},{"$f":"AY104","v":2.1433071799159857},{"$f":"AZ104","v":3.3773117020080607},50,{"$f":"スコアシート!BA17+スコアシート!C24","v":98},103,-6.4674235115193515,-102.79675302811197,50,19.5,-1.2244151308216249,-19.461521204351296,124,155,151]
[null,{"$f":"I3+(A63-1)*I4","v":86.4},1.5079644737231008,18,1.1302293515276394,17.964481111708889,null,51,{"$f":"I3+(H63-1)*I4","v":270},4.7123889803846897,5,-9.1886134118146501E-16,-5,6,-1.102633609417758E-15,-6,7,-1.286405877654051E-15,-7,8,-1.470178145890344E-15,-8,9,-1.653950414126637E-15,-9,10,-1.83772268236293E-15,-10,11,-2.021494950599223E-15,-11,12,-2.205267218835516E-15,-12,13,-2.389039487071809E-15,-13,14,-2.572811755308102E-15,-14,15,-2.756584023544395E-15,-15,16,-2.940356291780688E-15,-16,17,-3.124128560016981E-15,-17,4,-7.3508907294517201E-16,-4,null,null,null,null,null,null,null,null,null,null,null,null,51,{"$f":"スコアシート!E24+スコアシート!BC17","v":98},103,-1.8928543628338179E-14,-103,51,19.5,-3.5835592306077135E-15,-19.5,124,155,153]
[null,null,null,null,null,null,null,52,{"$f":"I3+(H64-1)*I4","v":273.60000000000002},4.7752208334564861,5,0.31395259764656858,-4.990133642141358,6,0.37674311717588232,-5.9881603705696289,7,0.43953363670519607,-6.9861870989979007,8,0.50232415623450977,-7.9842138274261725,9,0.56511467576382346,-8.9822405558544443,10,0.62790519529313715,-9.980267284282716,11,0.69069571482245096,-10.978294012710988,12,0.75348623435176465,-11.976320741139258,13,0.81627675388107834,-12.97434746956753,14,0.87906727341039215,-13.972374197995801,15,0.94185779293970584,-14.970400926424073,16,1.0046483124690195,-15.968427654852345,17,1.0674388319983332,-16.966454383280617,4,0.25116207811725488,-3.9921069137130862,{"$f":"BA61+1","v":18},{"$f":"AV30","v":-14.897213560745676},{"$f":"AW30","v":8.1898124597291648},{"$f":"BD61+1","v":43},{"$f":"AV55","v":-8.1898124597291595},{"$f":"AW55","v":-14.897213560745682},{"$f":"BG61+1","v":68},{"$f":"AV80","v":14.897213560745689},{"$f":"AW80","v":-8.1898124597291471},{"$f":"BJ61+1","v":93},{"$f":"AV105","v":8.1898124597291613},{"$f":"AW105","v":14.897213560745682},52,{"$f":"スコアシート!G24","v":-2},3,0.18837155858794116,-2.9940801852848145,52,19.5,1.2244151308216176,-19.461521204351296,125,155,154]
[null,null,null,null,null,null,null,53,{"$f":"I3+(H65-1)*I4","v":277.20000000000005},4.8380526865282825,5,0.62666616782152562,-4.9605735065723886,6,0.75199940138583066,-5.952688207886867,7,0.8773326349501358,-6.9448029092013446,8,1.0026658685144409,-7.9369176105158221,9,1.1279991020787461,-8.9290323118302997,10,1.2533323356430512,-9.9211470131447772,11,1.3786655692073564,-10.913261714459255,12,1.5039988027716613,-11.905376415773734,13,1.6293320363359665,-12.897491117088212,14,1.7546652699002716,-13.889605818402689,15,1.8799985034645768,-14.881720519717167,16,2.0053317370288819,-15.873835221031644,17,2.130664970593187,-16.865949922346122,4,0.50133293425722047,-3.9684588052579111,{"$f":"BA62+1","v":18},{"$f":"AY30","v":-3.5052267201754534},{"$f":"AZ30","v":1.9270146964068624},{"$f":"BD62+1","v":43},{"$f":"AY55","v":-1.9270146964068611},{"$f":"AZ55","v":-3.5052267201754543},{"$f":"BG62+1","v":68},{"$f":"AY80","v":3.5052267201754561},{"$f":"AZ80","v":-1.9270146964068582},{"$f":"BJ62+1","v":93},{"$f":"AY105","v":1.9270146964068615},{"$f":"AZ105","v":3.5052267201754543},53,{"$f":"スコアシート!I24","v":-2},3,0.37599970069291533,-2.9763441039434335,53,19.5,2.4439980545039499,-19.346236675632316,125,155,156]
[null,null,null,null,null,null,null,54,{"$f":"I3+(H66-1)*I4","v":280.8},4.900884539600078,5,0.93690657292862567,-4.9114362536434433,6,1.1242878875143507,-5.8937235043721312,7,1.311669202100076,-6.87601075510082,8,1.499050516685801,-7.8582980058295089,9,1.6864318312715261,-8.8405852565581977,10,1.8738131458572513,-9.8228725072868865,11,2.0611944604429766,-10.805159758015575,12,2.2485757750287014,-11.787447008744262,13,2.4359570896144267,-12.769734259472951,14,2.623338404200152,-13.75202151020164,15,2.8107197187858768,-14.734308760930329,16,2.9981010333716021,-15.716596011659018,17,3.1854823479573273,-16.698883262387707,4,0.74952525834290051,-3.9291490029147544,null,null,null,null,null,null,null,null,null,null,null,null,54,{"$f":"スコアシート!K24","v":-2},3,0.56214394375717536,-2.9468617521860656,54,19.5,3.6539356344216398,-19.154601389209429,125,154,157]
[null,null,null,null,null,null,null,55,{"$f":"I3+(H67-1)*I4","v":284.39999999999998},4.9637163926718726,5,1.2434494358242705,-4.8429158056431563,6,1.4921393229891244,-5.8114989667717882,7,1.7408292101539784,-6.7800821279004193,8,1.9895190973188326,-7.7486652890290504,9,2.2382089844836868,-8.7172484501576815,10,2.486898871648541,-9.6858316112863125,11,2.7355887588133947,-10.654414772414944,12,2.9842786459782489,-11.622997933543576,13,3.2329685331431031,-12.591581094672208,14,3.4816584203079568,-13.560164255800839,15,3.730348307472811,-14.52874741692947,16,3.9790381946376652,-15.497330578058101,17,4.2277280818025194,-16.465913739186732,4,0.99475954865941629,-3.8743326445145252,{"$f":"BA64+1","v":19},{"$f":"AV31","v":-15.382059891922333},{"$f":"AW31","v":7.2382479566062328},{"$f":"BD64+1","v":44},{"$f":"AV56","v":-7.2382479566062266},{"$f":"AW56","v":-15.382059891922337},{"$f":"BG64+1","v":69},{"$f":"AV81","v":15.382059891922335},{"$f":"AW81","v":-7.2382479566062274},{"$f":"BJ64+1","v":94},{"$f":"AV106","v":7.2382479566062283},{"$f":"AW106","v":15.382059891922335},55,{"$f":"スコアシート!M24","v":-2},3,0.74606966149456222,-2.9057494833858941,55,19.5,4.8494527997146548,-18.887371642008311,126,154,159]
[null,null,null,null,null,null,null,56,{"$f":"I3+(H68-1)*I4","v":288},5.026548245743669,5,1.5450849718747361,-4.7552825814757682,6,1.8541019662496834,-5.7063390977709219,7,2.1631189606246304,-6.6573956140660755,8,2.4721359549995778,-7.6084521303612291,9,2.7811529493745253,-8.5595086466563828,10,3.0901699437494723,-9.5105651629515364,11,3.3991869381244193,-10.46162167924669,12,3.7082039324993668,-11.412678195541844,13,4.0172209268743142,-12.363734711836997,14,4.3262379212492608,-13.314791228132151,15,4.6352549156242082,-14.265847744427305,16,4.9442719099991557,-15.216904260722458,17,5.2532889043741031,-16.167960777017612,4,1.2360679774997889,-3.8042260651806146,{"$f":"BA65+1","v":19},{"$f":"AY31","v":-3.6193082098640783},{"$f":"AZ31","v":1.70311716626029},{"$f":"BD65+1","v":44},{"$f":"AY56","v":-1.7031171662602886},{"$f":"AZ56","v":-3.6193082098640792},{"$f":"BG65+1","v":69},{"$f":"AY81","v":3.6193082098640788},{"$f":"AZ81","v":-1.7031171662602889},{"$f":"BJ65+1","v":94},{"$f":"AY106","v":1.7031171662602891},{"$f":"AZ106","v":3.6193082098640788},56,{"$f":"スコアシート!O24","v":-2},3,0.92705098312484169,-2.8531695488854609,56,19.5,6.0258313903114713,-18.545602067755496,126,154,160]
[null,null,null,null,null,null,null,57,{"$f":"I3+(H69-1)*I4","v":291.60000000000002},5.0893800988154654,5,1.8406227634233914,-4.6488824294412563,6,2.2087473161080693,-5.5786589153295072,7,2.5768718687927477,-6.508435401217759,8,2.944996421477426,-7.4382118871060099,9,3.3131209741621044,-8.3679883729942617,10,3.6812455268467827,-9.2977648588825126,11,4.0493700795314611,-10.227541344770763,12,4.4174946322161386,-11.157317830659014,13,4.7856191849008169,-12.087094316547265,14,5.1537437375854953,-13.016870802435518,15,5.5218682902701737,-13.946647288323769,16,5.889992842954852,-14.87642377421202,17,6.2581173956395304,-15.806200260100271,4,1.472498210738713,-3.7191059435530049,null,null,null,null,null,null,null,null,null,null,null,null,57,{"$f":"スコアシート!Q24","v":-2},3,1.1043736580540346,-2.7893294576647536,57,19.5,7.1784287773512263,-18.130641474820898,127,153,162]
[null,null,null,null,null,null,null,58,{"$f":"I3+(H70-1)*I4","v":295.20000000000005},5.1522119518872618,5,2.1288964578253671,-4.5241352623300957,6,2.5546757493904408,-5.4289623147961148,7,2.9804550409555142,-6.3337893672621339,8,3.4062343325205875,-7.2386164197281531,9,3.8320136240856608,-8.1434434721941713,10,4.2577929156507341,-9.0482705246601913,11,4.6835722072158079,-9.9530975771262113,12,5.1093514987808817,-10.85792462959223,13,5.5351307903459546,-11.762751682058248,14,5.9609100819110283,-12.667578734524268,15,6.3866893734761012,-13.572405786990288,16,6.812468665041175,-14.477232839456306,17,7.2382479566062488,-15.382059891922324,4,1.7031171662602937,-3.6193082098640765,{"$f":"BA67+1","v":20},{"$f":"AV32","v":-15.806200260100274},{"$f":"AW32","v":6.2581173956395215},{"$f":"BD67+1","v":45},{"$f":"AV57","v":-6.2581173956395224},{"$f":"AW57","v":-15.806200260100274},{"$f":"BG67+1","v":70},{"$f":"AV82","v":15.806200260100269},{"$f":"AW82","v":-6.2581173956395375},{"$f":"BJ67+1","v":95},{"$f":"AV107","v":6.2581173956395251},{"$f":"AW107","v":15.806200260100274},58,{"$f":"スコアシート!S24","v":-2},3,1.2773378746952204,-2.7144811573980574,58,19.5,8.3026961855189327,-17.644127523087374,128,153,163]
[null,null,null,null,null,null,null,59,{"$f":"I3+(H71-1)*I4","v":298.8},5.2150438049590573,5,2.4087683705085787,-4.3815334002193165,6,2.8905220446102944,-5.2578400802631799,7,3.37227571871201,-6.1341467603070434,8,3.8540293928137257,-7.0104534403509069,9,4.3357830669154414,-7.8867601203947704,10,4.8175367410171575,-8.763066800438633,11,5.2992904151188727,-9.6393734804824973,12,5.7810440892205888,-10.51568016052636,13,6.262797763322304,-11.391986840570224,14,6.7445514374240201,-12.268293520614087,15,7.2263051115257353,-13.144600200657951,16,7.7080587856274514,-14.020906880701814,17,8.1898124597291666,-14.897213560745676,4,1.9270146964068628,-3.5052267201754534,{"$f":"BA68+1","v":20},{"$f":"AY32","v":-3.7191059435530058},{"$f":"AZ32","v":1.472498210738711},{"$f":"BD68+1","v":45},{"$f":"AY57","v":-1.4724982107387112},{"$f":"AZ57","v":-3.7191059435530058},{"$f":"BG68+1","v":70},{"$f":"AY82","v":3.7191059435530045},{"$f":"AZ82","v":-1.4724982107387148},{"$f":"BJ68+1","v":95},{"$f":"AY107","v":1.4724982107387117},{"$f":"AZ107","v":3.7191059435530058},59,{"$f":"スコアシート!U24","v":-2},3,1.4452610223051472,-2.62892004013159,59,19.5,9.394196644983456,-17.087980260855336,129,153,165]
[null,null,null,null,null,null,null,60,{"$f":"I3+(H72-1)*I4","v":302.39999999999998},5.2778756580308519,5,2.6791339748949801,-4.2216396275100774,6,3.2149607698739757,-5.0659675530120936,7,3.7507875648529718,-5.9102954785141089,8,4.2866143598319679,-6.7546234040161242,9,4.8224411548109636,-7.5989513295181395,10,5.3582679497899601,-8.4432792550201547,11,5.8940947447689558,-9.2876071805221709,12,6.4299215397479514,-10.131935106024187,13,6.965748334726948,-10.976263031526202,14,7.5015751297059436,-11.820590957028218,15,8.0374019246849393,-12.664918882530232,16,8.5732287196639358,-13.509246808032248,17,9.1090555146429324,-14.353574733534264,4,2.143307179915984,-3.3773117020080621,null,null,null,null,null,null,null,null,null,null,null,null,60,{"$f":"スコアシート!W24","v":-2},3,1.6074803849369879,-2.5329837765060468,60,19.5,10.448622502090421,-16.464394547289302,130,152,166]
[null,null,null,null,null,null,null,61,{"$f":"I3+(H73-1)*I4","v":306},5.3407075111026483,5,2.9389262614623646,-4.0450849718747381,6,3.5267115137548375,-4.8541019662496856,7,4.11449676604731,-5.663118960624633,8,4.7022820183397833,-6.4721359549995805,9,5.2900672706322567,-7.2811529493745279,10,5.8778525229247292,-8.0901699437494763,11,6.4656377752172016,-8.8991869381244229,12,7.053423027509675,-9.7082039324993712,13,7.6412082798021483,-10.517220926874318,14,8.2289935320946199,-11.326237921249266,15,8.8167787843870933,-12.135254915624213,16,9.4045640366795666,-12.944271909999161,17,9.99234928897204,-13.753288904374109,4,2.3511410091698917,-3.2360679774997902,{"$f":"BA70+1","v":21},{"$f":"AV33","v":-16.167960777017608},{"$f":"AW33","v":5.2532889043741076},{"$f":"BD70+1","v":46},{"$f":"AV58","v":-5.2532889043741084},{"$f":"AW58","v":-16.167960777017608},{"$f":"BG70+1","v":71},{"$f":"AV83","v":16.167960777017608},{"$f":"AW83","v":-5.2532889043741093},{"$f":"BJ70+1","v":96},{"$f":"AV108","v":5.2532889043741111},{"$f":"AW108","v":16.167960777017608},61,{"$f":"スコアシート!Y24","v":-2},3,1.7633557568774187,-2.4270509831248428,61,19.5,11.461812419703222,-15.775831390311478,131,152,167]
[null,null,null,null,null,null,null,62,{"$f":"I3+(H74-1)*I4","v":309.60000000000002},5.4035393641744447,5,3.1871199487434501,-3.8525662138789452,6,3.8245439384921398,-4.6230794566547342,7,4.4619679282408296,-5.3935926994305232,8,5.0993919179895197,-6.1641059422063122,9,5.7368159077382099,-6.9346191849821013,10,6.3742398974869001,-7.7051324277578903,11,7.0116638872355894,-8.4756456705336802,12,7.6490878769842796,-9.2461589133094684,13,8.2865118667329689,-10.016672156085257,14,8.9239358564816591,-10.787185398861046,15,9.5613598462303493,-11.557698641636836,16,10.198783835979039,-12.328211884412624,17,10.83620782572773,-13.098725127188413,4,2.5496959589947599,-3.0820529711031561,{"$f":"BA71+1","v":21},{"$f":"AY33","v":-3.8042260651806141},{"$f":"AZ33","v":1.23606797749979},{"$f":"BD71+1","v":46},{"$f":"AY58","v":-1.2360679774997902},{"$f":"AZ58","v":-3.8042260651806141},{"$f":"BG71+1","v":71},{"$f":"AY83","v":3.8042260651806141},{"$f":"AZ83","v":-1.2360679774997905},{"$f":"BJ71+1","v":96},{"$f":"AY108","v":1.2360679774997909},{"$f":"AZ108","v":3.8042260651806141},62,{"$f":"スコアシート!AA24","v":-2},3,1.9122719692460699,-2.3115397283273671,62,19.5,12.429767800099455,-15.025008234127887,132,152,168]
[null,null,null,null,null,null,null,63,{"$f":"I3+(H75-1)*I4","v":313.20000000000005},5.4663712172462411,5,3.4227355296434463,-3.6448431371070544,6,4.1072826355721359,-4.3738117645284653,7,4.7918297415008251,-5.1027803919498762,8,5.4763768474295142,-5.8317490193712871,9,6.1609239533582034,-6.560717646792698,10,6.8454710592868926,-7.2896862742141089,11,7.5300181652155818,-8.0186549016355197,12,8.2145652711442718,-8.7476235290569306,13,8.8991123770729601,-9.4765921564783415,14,9.5836594830016502,-10.205560783899752,15,10.268206588930338,-10.934529411321163,16,10.952753694859028,-11.663498038742574,17,11.637300800787719,-12.392466666163985,4,2.7381884237147571,-2.9158745096856435,null,null,null,null,null,null,null,null,null,null,null,null,63,{"$f":"スコアシート!AC24","v":-2},3,2.053641317786068,-2.1869058822642327,63,19.5,13.34866856560944,-14.214888234717513,133,151,169]
[null,null,null,null,null,null,null,64,{"$f":"I3+(H76-1)*I4","v":316.8},5.5292030703180366,5,3.6448431371070593,-3.4227355296434414,6,4.3738117645284715,-4.1072826355721297,7,5.1027803919498833,-4.791829741500818,8,5.8317490193712951,-5.4763768474295063,9,6.5607176467927069,-6.1609239533581945,10,7.2896862742141186,-6.8454710592868828,11,8.0186549016355304,-7.5300181652155711,12,8.7476235290569431,-8.2145652711442594,13,9.476592156478354,-8.8991123770729477,14,10.205560783899767,-9.5836594830016359,15,10.934529411321178,-10.268206588930324,16,11.66349803874259,-10.952753694859013,17,12.392466666164003,-11.637300800787701,4,2.9158745096856475,-2.7381884237147531,{"$f":"BA73+1","v":22},{"$f":"AV34","v":-16.465913739186732},{"$f":"AW34","v":4.2277280818025247},{"$f":"BD73+1","v":47},{"$f":"AV59","v":-4.2277280818025398},{"$f":"AW59","v":-16.465913739186725},{"$f":"BG73+1","v":72},{"$f":"AV84","v":16.465913739186732},{"$f":"AW84","v":-4.2277280818025265},{"$f":"BJ73+1","v":97},{"$f":"AV109","v":4.2277280818025273},{"$f":"AW109","v":16.465913739186732},64,{"$f":"スコアシート!AE24","v":-2},3,2.1869058822642358,-2.0536413177860648,64,19.5,14.214888234717531,-13.348668565609422,134,151,170]
[null,null,null,null,null,null,null,65,{"$f":"I3+(H77-1)*I4","v":320.39999999999998},{"$f":"RADIANS(I77)","v":5.5920349233898312},5,{"$f":"K77*COS(J77)","v":3.8525662138789434},{"$f":"K77*SIN(J77)","v":-3.1871199487434514},6,{"$f":"N77*COS(J77)","v":4.6230794566547324},{"$f":"N77*SIN(J77)","v":-3.824543938492142},7,{"$f":"Q77*COS(J77)","v":5.3935926994305206},{"$f":"Q77*SIN(J77)","v":-4.4619679282408322},8,{"$f":"T77*COS(J77)","v":6.1641059422063096},{"$f":"T77*SIN(J77)","v":-5.0993919179895224},9,{"$f":"W77*COS(J77)","v":6.9346191849820986},{"$f":"W77*SIN(J77)","v":-5.7368159077382126},10,{"$f":"Z77*COS(J77)","v":7.7051324277578868},{"$f":"Z77*SIN(J77)","v":-6.3742398974869028},11,{"$f":"AC77*COS(J77)","v":8.4756456705336749},{"$f":"AC77*SIN(J77)","v":-7.011663887235593},12,{"$f":"AF77*COS(J77)","v":9.2461589133094648},{"$f":"AF77*SIN(J77)","v":-7.6490878769842841},13,{"$f":"AI77*COS(J77)","v":10.016672156085253},{"$f":"AI77*SIN(J77)","v":-8.2865118667329742},14,{"$f":"AL77*COS(J77)","v":10.787185398861041},{"$f":"AL77*SIN(J77)","v":-8.9239358564816644},15,{"$f":"AO77*COS(J77)","v":11.557698641636831},{"$f":"AO77*SIN(J77)","v":-9.5613598462303546},16,{"$f":"AR77*COS(J77)","v":12.328211884412619},{"$f":"AR77*SIN(J77)","v":-10.198783835979045},17,{"$f":"AU77*COS(J77)","v":13.098725127188407},{"$f":"AU77*SIN(J77)","v":-10.836207825727735},4,{"$f":"AX77*COS(J77)","v":3.0820529711031548},{"$f":"AX77*SIN(J77)","v":-2.5496959589947612},{"$f":"BA74+1","v":22},{"$f":"AY34","v":-3.8743326445145247},{"$f":"AZ34","v":0.99475954865941751},{"$f":"BD74+1","v":47},{"$f":"AY59","v":-0.99475954865942118},{"$f":"AZ59","v":-3.8743326445145239},{"$f":"BG74+1","v":72},{"$f":"AY84","v":3.8743326445145247},{"$f":"AZ84","v":-0.99475954865941796},{"$f":"BJ74+1","v":97},{"$f":"AY109","v":0.99475954865941829},{"$f":"AZ109","v":3.8743326445145247},65,{"$f":"スコアシート!AG24","v":-2},{"$f":"$I$7+BN77*$I$8","v":3},{"$f":"BO77*COS(J77)","v":2.3115397283273662},{"$f":"BO77*SIN(J77)","v":-1.912271969246071},65,19.5,{"$f":"BS77*COS(J77)","v":15.025008234127879},{"$f":"BS77*SIN(J77)","v":-12.42976780009946},136,150,171]
[null,null,null,null,null,null,null,66,{"$f":"I3+(H78-1)*I4","v":324},5.6548667764616276,{"$f":"K77","v":5},4.0450849718747364,-2.9389262614623668,{"$f":"N77","v":6},4.8541019662496838,-3.5267115137548402,{"$f":"Q77","v":7},5.6631189606246313,-4.1144967660473135,{"$f":"T77","v":8},6.4721359549995787,-4.7022820183397869,{"$f":"W77","v":9},7.2811529493745262,-5.2900672706322602,{"$f":"Z77","v":10},8.0901699437494727,-5.8778525229247336,{"$f":"AC77","v":11},8.8991869381244211,-6.465637775217207,{"$f":"AF77","v":12},9.7082039324993676,-7.0534230275096803,{"$f":"AI77","v":13},10.517220926874316,-7.6412082798021537,{"$f":"AL77","v":14},11.326237921249263,-8.228993532094627,{"$f":"AO77","v":15},12.135254915624211,-8.8167787843871004,{"$f":"AR77","v":16},12.944271909999157,-9.4045640366795737,{"$f":"AU77","v":17},13.753288904374104,-9.9923492889720471,{"$f":"AX77","v":4},3.2360679774997894,-2.3511410091698934,null,null,null,null,null,null,null,null,null,null,null,null,{"$f":"H78","v":66},{"$f":"スコアシート!AI24","v":-2},3,2.4270509831248419,-1.7633557568774201,{"$f":"H78","v":66},{"$f":"BS77","v":19.5},15.775831390311474,-11.461812419703231,137,150,172]
[null,null,null,null,null,null,null,67,{"$f":"I3+(H79-1)*I4","v":327.60000000000002},5.717698629533424,5,4.2216396275100765,-2.6791339748949818,6,5.0659675530120918,-3.2149607698739779,7,5.9102954785141071,-3.750787564852974,8,6.7546234040161224,-4.2866143598319706,9,7.5989513295181377,-4.8224411548109671,10,8.443279255020153,-5.3582679497899637,11,9.2876071805221692,-5.8940947447689593,12,10.131935106024184,-6.4299215397479559,13,10.976263031526198,-6.9657483347269524,14,11.820590957028214,-7.5015751297059481,15,12.66491888253023,-8.0374019246849446,16,13.509246808032245,-8.5732287196639412,17,14.353574733534259,-9.1090555146429377,4,3.3773117020080612,-2.1433071799159853,{"$f":"BA76+1","v":23},{"$f":"AV35","v":-16.698883262387707},{"$f":"AW35","v":3.1854823479573251},{"$f":"BD76+1","v":48},{"$f":"AV60","v":-3.1854823479573042},{"$f":"AW60","v":-16.69888326238771},{"$f":"BG76+1","v":73},{"$f":"AV85","v":16.698883262387707},{"$f":"AW85","v":-3.1854823479573198},{"$f":"BJ76+1","v":98},{"$f":"AV110","v":3.1854823479573207},{"$f":"AW110","v":16.698883262387707},67,{"$f":"スコアシート!AK24","v":-2},3,2.5329837765060459,-1.607480384936989,67,19.5,16.464394547289299,-10.448622502090428,138,149,173]
[null,null,null,null,null,null,null,68,{"$f":"I3+(H80-1)*I4","v":331.20000000000005},5.7805304826052204,5,4.38153340021932,-2.4087683705085725,6,5.2578400802631844,-2.8905220446102873,7,6.1341467603070479,-3.372275718712002,8,7.0104534403509122,-3.8540293928137164,9,7.8867601203947766,-4.3357830669154307,10,8.7630668004386401,-4.817536741017145,11,9.6393734804825044,-5.2992904151188602,12,10.515680160526369,-5.7810440892205746,13,11.391986840570233,-6.2627977633222889,14,12.268293520614096,-6.7445514374240041,15,13.14460020065796,-7.2263051115257184,16,14.020906880701824,-7.7080587856274327,17,14.897213560745689,-8.1898124597291471,4,3.5052267201754561,-1.9270146964068582,{"$f":"BA77+1","v":23},{"$f":"AY35","v":-3.9291490029147544},{"$f":"AZ35","v":0.74952525834290007},{"$f":"BD77+1","v":48},{"$f":"AY60","v":-0.74952525834289507},{"$f":"AZ60","v":-3.9291490029147553},{"$f":"BG77+1","v":73},{"$f":"AY85","v":3.9291490029147549},{"$f":"AZ85","v":-0.74952525834289874},{"$f":"BJ77+1","v":98},{"$f":"AY110","v":0.74952525834289896},{"$f":"AZ110","v":3.9291490029147544},68,{"$f":"スコアシート!AM24","v":-2},3,2.6289200401315922,-1.4452610223051436,68,19.5,17.08798026085535,-9.3941966449834329,140,149,173]
[null,null,null,null,null,null,null,69,{"$f":"I3+(H81-1)*I4","v":334.8},5.8433623356770159,5,4.5241352623300983,-2.1288964578253609,6,5.4289623147961183,-2.5546757493904333,7,6.3337893672621375,-2.9804550409555057,8,7.2386164197281575,-3.4062343325205777,9,8.1434434721941766,-3.8320136240856497,10,9.0482705246601967,-4.2577929156507217,11,9.9530975771262167,-4.6835722072157946,12,10.857924629592237,-5.1093514987808666,13,11.762751682058257,-5.5351307903459386,14,12.667578734524275,-5.9609100819110115,15,13.572405786990295,-6.3866893734760835,16,14.477232839456315,-6.8124686650411554,17,15.382059891922335,-7.2382479566062274,4,3.6193082098640788,-1.7031171662602889,null,null,null,null,null,null,null,null,null,null,null,null,69,{"$f":"スコアシート!AO24","v":-2},3,2.7144811573980592,-1.2773378746952166,69,19.5,17.644127523087384,-8.3026961855189079,141,148,174]
[null,null,null,null,null,null,null,70,{"$f":"I3+(H82-1)*I4","v":338.4},5.9061941887488105,5,4.6488824294412554,-1.8406227634233936,6,5.5786589153295072,-2.208747316108072,7,6.5084354012177581,-2.5768718687927508,8,7.438211887106009,-2.9449964214774296,9,8.3679883729942599,-3.3131209741621084,10,9.2977648588825108,-3.6812455268467872,11,10.227541344770762,-4.0493700795314655,12,11.157317830659014,-4.4174946322161439,13,12.087094316547265,-4.7856191849008232,14,13.016870802435516,-5.1537437375855015,15,13.946647288323767,-5.5218682902701808,16,14.876423774212018,-5.8899928429548591,17,15.806200260100269,-6.2581173956395375,4,3.7191059435530045,-1.4724982107387148,{"$f":"BA79+1","v":24},{"$f":"AV36","v":-16.865949922346125},{"$f":"AW36","v":2.1306649705931697},{"$f":"BD79+1","v":49},{"$f":"AV61","v":-2.1306649705931635},{"$f":"AW61","v":-16.865949922346125},{"$f":"BG79+1","v":74},{"$f":"AV86","v":16.865949922346125},{"$f":"AW86","v":-2.1306649705931644},{"$f":"BJ79+1","v":99},{"$f":"AV111","v":2.1306649705931653},{"$f":"AW111","v":16.865949922346125},70,{"$f":"スコアシート!AQ24","v":-2},3,2.7893294576647536,-1.104373658054036,70,19.5,18.130641474820898,-7.1784287773512343,143,148,174]
[null,null,null,null,null,null,null,71,{"$f":"I3+(H83-1)*I4","v":342},5.9690260418206069,5,4.7552825814757673,-1.5450849718747381,6,5.706339097770921,-1.8541019662496856,7,6.6573956140660746,-2.1631189606246335,8,7.6084521303612282,-2.4721359549995809,9,8.559508646656381,-2.7811529493745284,10,9.5105651629515346,-3.0901699437494763,11,10.461621679246688,-3.3991869381244237,12,11.412678195541842,-3.7082039324993712,13,12.363734711836996,-4.0172209268743186,14,13.314791228132149,-4.326237921249267,15,14.265847744427303,-4.6352549156242144,16,15.216904260722456,-4.9442719099991619,17,16.167960777017608,-5.2532889043741093,4,3.8042260651806141,-1.2360679774997905,{"$f":"BA80+1","v":24},{"$f":"AY36","v":-3.9684588052579115},{"$f":"AZ36","v":0.50133293425721637},{"$f":"BD80+1","v":49},{"$f":"AY61","v":-0.50133293425721492},{"$f":"AZ61","v":-3.9684588052579115},{"$f":"BG80+1","v":74},{"$f":"AY86","v":3.9684588052579115},{"$f":"AZ86","v":-0.50133293425721515},{"$f":"BJ80+1","v":99},{"$f":"AY111","v":0.50133293425721537},{"$f":"AZ111","v":3.9684588052579115},71,{"$f":"スコアシート!AS24","v":-2},3,2.8531695488854605,-0.9270509831248428,71,19.5,18.545602067755492,-6.0258313903114784,144,147,175]
[null,null,null,null,null,null,null,72,{"$f":"I3+(H84-1)*I4","v":345.6},6.0318578948924033,5,4.8429158056431563,-1.2434494358242725,6,5.8114989667717873,-1.4921393229891269,7,6.7800821279004184,-1.7408292101539815,8,7.7486652890290495,-1.9895190973188359,9,8.7172484501576815,-2.2382089844836903,10,9.6858316112863125,-2.486898871648545,11,10.654414772414944,-2.7355887588133996,12,11.622997933543575,-2.9842786459782538,13,12.591581094672206,-3.2329685331431084,14,13.560164255800837,-3.481658420307963,15,14.528747416929468,-3.7303483074728172,16,15.497330578058099,-3.9790381946376718,17,16.465913739186732,-4.2277280818025265,4,3.8743326445145247,-0.99475954865941796,null,null,null,null,null,null,null,null,null,null,null,null,72,{"$f":"スコアシート!AU24","v":-2},3,2.9057494833858937,-0.74606966149456344,72,19.5,18.887371642008308,-4.8494527997146628,146,147,175]
[null,null,null,null,null,null,null,73,{"$f":"I3+(H85-1)*I4","v":349.2},6.0946897479641988,5,4.9114362536434433,-0.93690657292862345,6,5.8937235043721321,-1.124287887514348,7,6.8760107551008209,-1.3116692021000729,8,7.8582980058295098,-1.4990505166857975,9,8.8405852565581977,-1.6864318312715221,10,9.8228725072868865,-1.8738131458572469,11,10.805159758015575,-2.0611944604429717,12,11.787447008744264,-2.2485757750286961,13,12.769734259472953,-2.4359570896144209,14,13.752021510201642,-2.6233384042001457,15,14.734308760930331,-2.8107197187858701,16,15.71659601165902,-2.9981010333715949,17,16.698883262387707,-3.1854823479573198,4,3.9291490029147549,-0.74952525834289874,{"$f":"BA82+1","v":25},{"$f":"AV37","v":-16.966454383280617},{"$f":"AW37","v":1.0674388319983232},{"$f":"BD82+1","v":50},{"$f":"AV62","v":-1.0674388319983397},{"$f":"AW62","v":-16.966454383280617},{"$f":"BG82+1","v":75},{"$f":"AV87","v":16.966454383280617},{"$f":"AW87","v":-1.0674388319983255},{"$f":"BJ82+1","v":100},{"$f":"AV112","v":1.0674388319983263},{"$f":"AW112","v":16.966454383280617},73,{"$f":"スコアシート!AW24","v":-2},3,2.9468617521860661,-0.56214394375717402,73,19.5,19.154601389209429,-3.6539356344216314,147,147,175]
[null,null,null,null,null,null,null,74,{"$f":"I3+(H86-1)*I4","v":352.8},6.1575216010359952,5,4.9605735065723895,-0.62666616782151896,6,5.952688207886867,-0.75199940138582266,7,6.9448029092013455,-0.87733263495012648,8,7.936917610515823,-1.0026658685144303,9,8.9290323118303014,-1.1279991020787341,10,9.921147013144779,-1.2533323356430379,11,10.913261714459257,-1.3786655692073417,12,11.905376415773734,-1.5039988027716453,13,12.897491117088212,-1.6293320363359491,14,13.889605818402691,-1.754665269900253,15,14.881720519717168,-1.8799985034645568,16,15.873835221031646,-2.0053317370288606,17,16.865949922346125,-2.1306649705931644,4,3.9684588052579115,-0.50133293425721515,{"$f":"BA83+1","v":25},{"$f":"AY37","v":-3.9921069137130862},{"$f":"AZ37","v":0.25116207811725255},{"$f":"BD83+1","v":50},{"$f":"AY62","v":-0.25116207811725638},{"$f":"AZ62","v":-3.9921069137130862},{"$f":"BG83+1","v":75},{"$f":"AY87","v":3.9921069137130862},{"$f":"AZ87","v":-0.25116207811725305},{"$f":"BJ83+1","v":100},{"$f":"AY112","v":0.25116207811725327},{"$f":"AZ112","v":3.9921069137130862},74,{"$f":"スコアシート!AY24","v":-2},3,2.9763441039434335,-0.37599970069291133,74,19.5,19.346236675632319,-2.4439980545039237,149,146,175]
[null,null,null,null,null,null,null,75,{"$f":"I3+(H87-1)*I4","v":356.40000000000003},6.2203534541077907,5,4.990133642141358,-0.3139525976465663,6,5.9881603705696289,-0.3767431171758796,7,6.9861870989979007,-0.43953363670519285,8,7.9842138274261725,-0.5023241562345061,9,8.9822405558544443,-0.56511467576381935,10,9.980267284282716,-0.6279051952931326,11,10.978294012710988,-0.69069571482244585,12,11.976320741139258,-0.75348623435175921,13,12.97434746956753,-0.81627675388107246,14,13.972374197995801,-0.87906727341038571,15,14.970400926424073,-0.94185779293969896,16,15.968427654852345,-1.0046483124690122,17,16.966454383280617,-1.0674388319983255,4,3.9921069137130862,-0.25116207811725305,null,null,null,null,null,null,null,null,null,null,null,null,75,{"$f":"スコアシート!BA24+スコアシート!C31","v":148},153,152.69808944952555,-9.6069494879849291,75,19.5,19.461521204351296,-1.2244151308216087,150,146,175]
[null,null,null,null,null,null,null,76,{"$f":"I3+(H88-1)*I4","v":360},6.2831853071795862,5,5,-1.22514845490862E-15,6,6,-1.470178145890344E-15,7,7,-1.715207836872068E-15,8,8,-1.960237527853792E-15,9,9,-2.205267218835516E-15,10,10,-2.45029690981724E-15,11,11,-2.695326600798964E-15,12,12,-2.940356291780688E-15,13,13,-3.185385982762412E-15,14,14,-3.430415673744136E-15,15,15,-3.67544536472586E-15,16,16,-3.920475055707584E-15,17,17,-4.165504746689308E-15,4,4,-9.8011876392689601E-16,null,null,null,null,null,null,null,null,null,null,null,null,76,{"$f":"スコアシート!E31+スコアシート!BC24","v":148},153,153,-3.7489542720203772E-14,76,19.5,19.5,-4.778078974143618E-15,152,145,175]
[null,null,null,null,null,null,null,77,{"$f":"I3+(H89-1)*I4","v":363.6},6.3460171602513826,5,4.990133642141358,0.31395259764656835,6,5.9881603705696289,0.37674311717588199,7,6.9861870989979007,0.43953363670519563,8,7.9842138274261725,0.50232415623450932,9,8.9822405558544443,0.56511467576382302,10,9.980267284282716,0.62790519529313671,11,10.978294012710988,0.69069571482245029,12,11.976320741139258,0.75348623435176398,13,12.97434746956753,0.81627675388107768,14,13.972374197995801,0.87906727341039126,15,14.970400926424073,0.94185779293970495,16,15.968427654852345,1.0046483124690186,17,16.966454383280617,1.0674388319983323,4,3.9921069137130862,0.25116207811725466,null,null,null,null,null,null,null,null,null,null,null,null,77,{"$f":"スコアシート!G31","v":-2},3,2.9940801852848145,0.188371558587941,77,19.5,19.461521204351296,1.2244151308216165,153,145,174]
[null,null,null,null,null,null,null,78,{"$f":"I3+(H90-1)*I4","v":367.2},6.4088490133231781,5,4.9605735065723895,0.62666616782152085,6,5.952688207886867,0.75199940138582511,7,6.9448029092013455,0.87733263495012925,8,7.936917610515823,1.0026658685144334,9,8.9290323118303014,1.1279991020787377,10,9.921147013144779,1.2533323356430417,11,10.913261714459257,1.378665569207346,12,11.905376415773734,1.5039988027716502,13,12.897491117088212,1.6293320363359542,14,13.889605818402691,1.7546652699002585,15,14.881720519717168,1.8799985034645625,16,15.873835221031646,2.0053317370288668,17,16.865949922346125,2.1306649705931711,4,3.9684588052579115,0.5013329342572167,null,null,null,null,null,null,null,null,null,null,null,null,78,{"$f":"スコアシート!I31","v":-2},3,2.9763441039434335,0.37599970069291255,78,19.5,19.346236675632319,2.4439980545039313,155,144,174]
[null,null,null,null,null,null,null,79,{"$f":"I3+(H91-1)*I4","v":370.8},6.4716808663949745,5,4.9114362536434433,0.93690657292862534,6,5.8937235043721312,1.1242878875143505,7,6.87601075510082,1.3116692021000755,8,7.8582980058295089,1.4990505166858006,9,8.8405852565581977,1.6864318312715256,10,9.8228725072868865,1.8738131458572507,11,10.805159758015575,2.0611944604429757,12,11.787447008744262,2.248575775028701,13,12.769734259472951,2.4359570896144258,14,13.75202151020164,2.6233384042001511,15,14.734308760930329,2.8107197187858759,16,15.716596011659018,2.9981010333716012,17,16.698883262387707,3.1854823479573264,4,3.9291490029147544,0.74952525834290029,null,null,null,null,null,null,null,null,null,null,null,null,79,{"$f":"スコアシート!K31","v":-2},3,2.9468617521860656,0.56214394375717525,79,19.5,19.154601389209429,3.6539356344216389,156,144,174]
[null,null,null,null,null,null,null,80,{"$f":"I3+(H92-1)*I4","v":374.40000000000003},6.53451271946677,5,4.8429158056431554,1.2434494358242745,6,5.8114989667717865,1.4921393229891293,7,6.7800821279004175,1.7408292101539842,8,7.7486652890290486,1.989519097318839,9,8.7172484501576797,2.2382089844836939,10,9.6858316112863108,2.4868988716485489,11,10.654414772414942,2.7355887588134036,12,11.622997933543573,2.9842786459782586,13,12.591581094672204,3.2329685331431133,14,13.560164255800835,3.4816584203079683,15,14.528747416929466,3.730348307472823,16,15.497330578058097,3.979038194637678,17,16.465913739186728,4.2277280818025327,4,3.8743326445145243,0.99475954865941951,null,null,null,null,null,null,null,null,null,null,null,null,80,{"$f":"スコアシート!M31","v":-2},3,2.9057494833858932,0.74606966149456466,80,19.5,18.887371642008304,4.8494527997146699,157,144,173]
[null,null,null,null,null,null,null,81,{"$f":"I3+(H93-1)*I4","v":378},6.5973445725385655,5,4.7552825814757682,1.5450849718747359,6,5.7063390977709219,1.8541019662496829,7,6.6573956140660755,2.1631189606246304,8,7.6084521303612291,2.4721359549995774,9,8.5595086466563828,2.7811529493745244,10,9.5105651629515364,3.0901699437494718,11,10.46162167924669,3.3991869381244189,12,11.412678195541844,3.7082039324993659,13,12.363734711836997,4.0172209268743133,14,13.314791228132151,4.3262379212492608,15,14.265847744427305,4.6352549156242073,16,15.216904260722458,4.9442719099991548,17,16.167960777017612,5.2532889043741022,4,3.8042260651806146,1.2360679774997887,null,null,null,null,null,null,null,null,null,null,null,null,81,{"$f":"スコアシート!O31","v":-2},3,2.8531695488854609,0.92705098312484147,81,19.5,18.545602067755496,6.0258313903114695,158,143,173]
[null,null,null,null,null,null,null,82,{"$f":"I3+(H94-1)*I4","v":381.6},6.6601764256103619,5,4.6488824294412563,1.8406227634233909,6,5.5786589153295081,2.2087473161080693,7,6.5084354012177599,2.5768718687927472,8,7.4382118871060108,2.9449964214774256,9,8.3679883729942617,3.3131209741621039,10,9.2977648588825126,3.6812455268467819,11,10.227541344770765,4.0493700795314602,12,11.157317830659016,4.4174946322161386,13,12.087094316547267,4.7856191849008169,14,13.01687080243552,5.1537437375854944,15,13.946647288323771,5.5218682902701728,16,14.876423774212022,5.8899928429548511,17,15.806200260100272,6.2581173956395295,4,3.7191059435530054,1.4724982107387128,null,null,null,null,null,null,null,null,null,null,null,null,82,{"$f":"スコアシート!Q31","v":-2},3,2.789329457664754,1.1043736580540346,82,19.5,18.130641474820901,7.1784287773512245,160,143,172]
[null,null,null,null,null,null,null,83,{"$f":"I3+(H95-1)*I4","v":385.2},6.7230082786821574,5,4.5241352623300983,2.1288964578253626,6,5.4289623147961175,2.5546757493904355,7,6.3337893672621366,2.980455040955508,8,7.2386164197281566,3.4062343325205804,9,8.1434434721941766,3.8320136240856528,10,9.0482705246601967,4.2577929156507253,11,9.9530975771262149,4.6835722072157981,12,10.857924629592235,5.109351498780871,13,11.762751682058255,5.535130790345943,14,12.667578734524273,5.9609100819110159,15,13.572405786990293,6.3866893734760879,16,14.477232839456313,6.8124686650411608,17,15.382059891922333,7.2382479566062337,4,3.6193082098640783,1.7031171662602902,null,null,null,null,null,null,null,null,null,null,null,null,83,{"$f":"スコアシート!S31","v":-2},3,2.7144811573980587,1.2773378746952178,83,19.5,17.644127523087381,8.302696185518915,161,143,171]
[null,null,null,null,null,null,null,84,{"$f":"I3+(H96-1)*I4","v":388.8},6.7858401317539538,5,4.3815334002193165,2.4087683705085783,6,5.2578400802631799,2.8905220446102939,7,6.1341467603070434,3.3722757187120096,8,7.0104534403509069,3.8540293928137253,9,7.8867601203947704,4.3357830669154414,10,8.763066800438633,4.8175367410171566,11,9.6393734804824973,5.2992904151188718,12,10.51568016052636,5.7810440892205879,13,11.391986840570224,6.262797763322304,14,12.268293520614087,6.7445514374240192,15,13.144600200657951,7.2263051115257344,16,14.020906880701814,7.7080587856274505,17,14.897213560745676,8.1898124597291666,4,3.5052267201754534,1.9270146964068626,null,null,null,null,null,null,null,null,null,null,null,null,84,{"$f":"スコアシート!U31","v":-2},3,2.62892004013159,1.445261022305147,84,19.5,17.087980260855336,9.394196644983456,162,142,170]
[null,null,null,null,null,null,null,85,{"$f":"I3+(H97-1)*I4","v":392.40000000000003},6.8486719848257493,5,4.2216396275100756,2.6791339748949832,6,5.06596755301209,3.2149607698739802,7,5.9102954785141053,3.7507875648529767,8,6.7546234040161206,4.2866143598319733,9,7.5989513295181359,4.8224411548109698,10,8.4432792550201512,5.3582679497899663,11,9.2876071805221656,5.8940947447689629,12,10.13193510602418,6.4299215397479603,13,10.976263031526196,6.9657483347269569,14,11.820590957028211,7.5015751297059534,15,12.664918882530227,8.03740192468495,16,13.509246808032241,8.5732287196639465,17,14.353574733534256,9.1090555146429431,4,3.3773117020080603,2.1433071799159866,null,null,null,null,null,null,null,null,null,null,null,null,85,{"$f":"スコアシート!W31","v":-2},3,2.532983776506045,1.6074803849369901,85,19.5,16.464394547289295,10.448622502090435,163,142,169]
[null,null,null,null,null,null,null,86,{"$f":"I3+(H98-1)*I4","v":396},6.9115038378975449,5,4.0450849718747381,2.9389262614623646,6,4.8541019662496856,3.5267115137548375,7,5.663118960624633,4.11449676604731,8,6.4721359549995805,4.7022820183397833,9,7.2811529493745279,5.2900672706322567,10,8.0901699437494763,5.8778525229247292,11,8.8991869381244229,6.4656377752172016,12,9.7082039324993712,7.053423027509675,13,10.517220926874318,7.6412082798021483,14,11.326237921249266,8.2289935320946199,15,12.135254915624213,8.8167787843870933,16,12.944271909999161,9.4045640366795666,17,13.753288904374109,9.99234928897204,4,3.2360679774997902,2.3511410091698917,null,null,null,null,null,null,null,null,null,null,null,null,86,{"$f":"スコアシート!Y31","v":-2},3,2.4270509831248428,1.7633557568774187,86,19.5,15.775831390311478,11.461812419703222,164,142,168]
[null,null,null,null,null,null,null,87,{"$f":"I3+(H99-1)*I4","v":399.6},6.9743356909693413,5,3.8525662138789452,3.1871199487434492,6,4.6230794566547342,3.8245439384921394,7,5.3935926994305232,4.4619679282408287,8,6.1641059422063122,5.0993919179895189,9,6.9346191849821013,5.736815907738209,10,7.7051324277578903,6.3742398974868983,11,8.4756456705336802,7.0116638872355885,12,9.2461589133094684,7.6490878769842787,13,10.016672156085257,8.2865118667329689,14,10.787185398861046,8.9239358564816573,15,11.557698641636836,9.5613598462303475,16,12.328211884412624,10.198783835979038,17,13.098725127188413,10.836207825727728,4,3.0820529711031561,2.5496959589947594,null,null,null,null,null,null,null,null,null,null,null,null,87,{"$f":"スコアシート!AA31","v":-2},3,2.3115397283273671,1.9122719692460697,87,19.5,15.025008234127887,12.429767800099452,165,142,167]
[null,null,null,null,null,null,null,88,{"$f":"I3+(H100-1)*I4","v":403.2},7.0371675440411368,5,3.644843137107058,3.4227355296434432,6,4.3738117645284689,4.1072826355721315,7,5.1027803919498806,4.7918297415008206,8,5.8317490193712924,5.4763768474295089,9,6.5607176467927042,6.1609239533581972,10,7.289686274214116,6.8454710592868864,11,8.0186549016355269,7.5300181652155747,12,8.7476235290569377,8.2145652711442629,13,9.4765921564783504,8.8991123770729512,14,10.205560783899761,9.5836594830016413,15,10.934529411321174,10.26820658893033,16,11.663498038742585,10.952753694859018,17,12.392466666163996,11.637300800787706,4,2.9158745096856462,2.7381884237147545,null,null,null,null,null,null,null,null,null,null,null,null,88,{"$f":"スコアシート!AC31","v":-2},3,2.1869058822642344,2.0536413177860657,88,19.5,14.214888234717526,13.348668565609428,165,142,166]
[null,null,null,null,null,null,null,89,{"$f":"I3+(H101-1)*I4","v":406.8},7.0999993971129332,5,3.4227355296434419,3.6448431371070589,6,4.1072826355721306,4.3738117645284706,7,4.7918297415008189,5.1027803919498824,8,5.4763768474295071,5.8317490193712942,9,6.1609239533581954,6.560717646792706,10,6.8454710592868837,7.2896862742141177,11,7.530018165215572,8.0186549016355286,12,8.2145652711442612,8.7476235290569413,13,8.8991123770729494,9.476592156478354,14,9.5836594830016377,10.205560783899765,15,10.268206588930326,10.934529411321176,16,10.952753694859014,11.663498038742588,17,11.637300800787703,12.392466666164001,4,2.7381884237147536,2.9158745096856471,null,null,null,null,null,null,null,null,null,null,null,null,89,{"$f":"スコアシート!AE31","v":-2},3,2.0536413177860653,2.1869058822642353,89,19.5,13.348668565609424,14.214888234717529,166,142,164]
[null,null,null,null,null,null,null,90,{"$f":"I3+(H102-1)*I4","v":410.40000000000003},7.1628312501847287,5,3.1871199487434483,3.852566213878946,6,3.8245439384921376,4.623079456654736,7,4.4619679282408278,5.393592699430525,8,5.0993919179895171,6.164105942206314,9,5.7368159077382064,6.9346191849821031,10,6.3742398974868966,7.7051324277578921,11,7.0116638872355859,8.475645670533682,12,7.6490878769842752,9.2461589133094719,13,8.2865118667329654,10.01667215608526,14,8.9239358564816555,10.78718539886105,15,9.561359846230344,11.557698641636838,16,10.198783835979034,12.328211884412628,17,10.836207825727724,13.098725127188418,4,2.5496959589947585,3.082052971103157,null,null,null,null,null,null,null,null,null,null,null,null,90,{"$f":"スコアシート!AG31","v":-2},3,1.9122719692460688,2.311539728327368,90,19.5,12.429767800099448,15.02500823412789,167,142,163]
[null,null,null,null,null,null,null,91,{"$f":"I3+(H103-1)*I4","v":414},7.2256631032565242,5,2.9389262614623668,4.0450849718747364,6,3.5267115137548402,4.8541019662496829,7,4.1144967660473135,5.6631189606246304,8,4.7022820183397869,6.4721359549995778,9,5.2900672706322602,7.2811529493745253,10,5.8778525229247336,8.0901699437494727,11,6.465637775217207,8.8991869381244193,12,7.0534230275096803,9.7082039324993659,13,7.6412082798021537,10.517220926874314,14,8.228993532094627,11.326237921249261,15,8.8167787843871004,12.135254915624209,16,9.4045640366795737,12.944271909999156,17,9.9923492889720471,13.753288904374102,4,2.3511410091698934,3.2360679774997889,null,null,null,null,null,null,null,null,null,null,null,null,91,{"$f":"スコアシート!AI31","v":-2},3,1.7633557568774201,2.4270509831248415,91,19.5,11.461812419703231,15.77583139031147,167,142,161]
[null,null,null,null,null,null,null,92,{"$f":"I3+(H104-1)*I4","v":417.6},7.2884949563283206,5,2.6791339748949823,4.2216396275100756,6,3.2149607698739784,5.0659675530120909,7,3.7507875648529749,5.9102954785141062,8,4.2866143598319715,6.7546234040161215,9,4.822441154810968,7.5989513295181368,10,5.3582679497899646,8.4432792550201512,11,5.8940947447689611,9.2876071805221674,12,6.4299215397479568,10.131935106024182,13,6.9657483347269533,10.976263031526198,14,7.5015751297059499,11.820590957028212,15,8.0374019246849464,12.664918882530229,16,8.573228719663943,13.509246808032243,17,9.1090555146429395,14.353574733534257,4,2.1433071799159857,3.3773117020080607,null,null,null,null,null,null,null,null,null,null,null,null,92,{"$f":"スコアシート!AK31","v":-2},3,1.6074803849369892,2.5329837765060454,92,19.5,10.44862250209043,16.464394547289295,168,142,160]
[null,null,null,null,null,null,null,93,{"$f":"I3+(H105-1)*I4","v":421.2},7.3513268094001161,5,2.408768370508577,4.3815334002193183,6,2.8905220446102922,5.2578400802631817,7,3.3722757187120078,6.1341467603070452,8,3.854029392813723,7.0104534403509087,9,4.3357830669154387,7.8867601203947721,10,4.8175367410171539,8.7630668004386365,11,5.2992904151188691,9.6393734804824991,12,5.7810440892205843,10.515680160526363,13,6.2627977633222995,11.391986840570226,14,6.7445514374240156,12.26829352061409,15,7.2263051115257309,13.144600200657953,16,7.7080587856274461,14.020906880701817,17,8.1898124597291613,14.897213560745682,4,1.9270146964068615,3.5052267201754543,null,null,null,null,null,null,null,null,null,null,null,null,93,{"$f":"スコアシート!AM31","v":-2},3,1.4452610223051461,2.6289200401315909,93,19.5,9.3941966449834506,17.087980260855339,168,142,158]
[null,null,null,null,null,null,null,94,{"$f":"I3+(H106-1)*I4","v":424.8},7.4141586624719125,5,2.1288964578253613,4.5241352623300983,6,2.5546757493904337,5.4289623147961183,7,2.9804550409555057,6.3337893672621375,8,3.4062343325205782,7.2386164197281575,9,3.8320136240856506,8.1434434721941766,10,4.2577929156507226,9.0482705246601967,11,4.6835722072157946,9.9530975771262167,12,5.1093514987808675,10.857924629592237,13,5.5351307903459395,11.762751682058257,14,5.9609100819110115,12.667578734524275,15,6.3866893734760843,13.572405786990295,16,6.8124686650411563,14.477232839456315,17,7.2382479566062283,15.382059891922335,4,1.7031171662602891,3.6193082098640788,null,null,null,null,null,null,null,null,null,null,null,null,94,{"$f":"スコアシート!AO31","v":-2},3,1.2773378746952169,2.7144811573980592,94,19.5,8.3026961855189096,17.644127523087384,169,142,157]
[null,null,null,null,null,null,null,95,{"$f":"I3+(H107-1)*I4","v":428.40000000000003},7.476990515543708,5,1.8406227634233896,4.6488824294412572,6,2.2087473161080675,5.578658915329509,7,2.5768718687927454,6.5084354012177599,8,2.9449964214774234,7.4382118871060117,9,3.3131209741621013,8.3679883729942635,10,3.6812455268467792,9.2977648588825144,11,4.0493700795314567,10.227541344770765,12,4.417494632216135,11.157317830659018,13,4.7856191849008134,12.087094316547269,14,5.1537437375854909,13.01687080243552,15,5.5218682902701683,13.946647288323772,16,5.8899928429548467,14.876423774212023,17,6.2581173956395251,15.806200260100274,4,1.4724982107387117,3.7191059435530058,null,null,null,null,null,null,null,null,null,null,null,null,95,{"$f":"スコアシート!AQ31","v":-2},3,1.1043736580540338,2.7893294576647545,95,19.5,7.1784287773512192,18.130641474820905,169,142,155]
[null,null,null,null,null,null,null,96,{"$f":"I3+(H108-1)*I4","v":432},7.5398223686155035,5,1.5450849718747386,4.7552825814757673,6,1.8541019662496865,5.706339097770921,7,2.1631189606246339,6.6573956140660746,8,2.4721359549995818,7.6084521303612282,9,2.7811529493745297,8.559508646656381,10,3.0901699437494772,9.5105651629515346,11,3.3991869381244251,10.461621679246688,12,3.708203932499373,11.412678195541842,13,4.0172209268743204,12.363734711836996,14,4.3262379212492679,13.314791228132149,15,4.6352549156242162,14.265847744427303,16,4.9442719099991637,15.216904260722456,17,5.2532889043741111,16.167960777017608,4,1.2360679774997909,3.8042260651806141,null,null,null,null,null,null,null,null,null,null,null,null,96,{"$f":"スコアシート!AS31","v":-2},3,0.92705098312484324,2.8531695488854605,96,19.5,6.0258313903114811,18.545602067755492,169,142,154]
[null,null,null,null,null,null,null,97,{"$f":"I3+(H109-1)*I4","v":435.6},{"$f":"RADIANS(I109)","v":7.6026542216872999},5,{"$f":"K109*COS(J109)","v":1.2434494358242729},4.8429158056431563,6,{"$f":"N109*COS(J109)","v":1.4921393229891273},5.8114989667717873,7,{"$f":"Q109*COS(J109)","v":1.740829210153982},6.7800821279004184,8,{"$f":"T109*COS(J109)","v":1.9895190973188366},7.7486652890290495,9,{"$f":"W109*COS(J109)","v":2.2382089844836912},8.7172484501576815,10,{"$f":"Z109*COS(J109)","v":2.4868988716485458},9.6858316112863125,11,{"$f":"AC109*COS(J109)","v":2.7355887588134005},10.654414772414944,12,{"$f":"AF109*COS(J109)","v":2.9842786459782547},11.622997933543575,13,{"$f":"AI109*COS(J109)","v":3.2329685331431093},12.591581094672206,14,{"$f":"AL109*COS(J109)","v":3.4816584203079639},13.560164255800837,15,{"$f":"AO109*COS(J109)","v":3.7303483074728185},14.528747416929468,16,{"$f":"AR109*COS(J109)","v":3.9790381946376732},15.497330578058099,17,{"$f":"AU109*COS(J109)","v":4.2277280818025273},16.465913739186732,4,{"$f":"AX109*COS(J109)","v":0.99475954865941829},3.8743326445145247,null,null,null,null,null,null,null,null,null,null,null,null,97,{"$f":"スコアシート!AU31","v":-2},3,{"$f":"BO109*COS(J109)","v":0.74606966149456366},2.9057494833858937,97,19.5,{"$f":"BS109*COS(J109)","v":4.8494527997146646},18.887371642008308,169,142,152]
[null,null,null,null,null,null,null,98,{"$f":"I3+(H110-1)*I4","v":439.2},{"$f":"RADIANS(I110)","v":7.6654860747590954},5,{"$f":"K110*COS(J110)","v":0.93690657292862367},4.9114362536434433,6,{"$f":"N110*COS(J110)","v":1.1242878875143485},5.8937235043721312,7,{"$f":"Q110*COS(J110)","v":1.3116692021000731},6.87601075510082,8,{"$f":"T110*COS(J110)","v":1.4990505166857979},7.8582980058295089,9,{"$f":"W110*COS(J110)","v":1.6864318312715227},8.8405852565581977,10,{"$f":"Z110*COS(J110)","v":1.8738131458572473},9.8228725072868865,11,{"$f":"AC110*COS(J110)","v":2.0611944604429722},10.805159758015575,12,{"$f":"AF110*COS(J110)","v":2.248575775028697},11.787447008744262,13,{"$f":"AI110*COS(J110)","v":2.4359570896144218},12.769734259472951,14,{"$f":"AL110*COS(J110)","v":2.6233384042001462},13.75202151020164,15,{"$f":"AO110*COS(J110)","v":2.810719718785871},14.734308760930329,16,{"$f":"AR110*COS(J110)","v":2.9981010333715958},15.716596011659018,17,{"$f":"AU110*COS(J110)","v":3.1854823479573207},16.698883262387707,4,{"$f":"AX110*COS(J110)","v":0.74952525834289896},3.9291490029147544,null,null,null,null,null,null,null,null,null,null,null,null,98,{"$f":"スコアシート!AW31","v":-2},3,{"$f":"BO110*COS(J110)","v":0.56214394375717425},2.9468617521860656,98,19.5,3.6539356344216323,19.154601389209429,169,142,150]
[null,null,null,null,null,null,null,99,{"$f":"I3+(H111-1)*I4","v":442.8},{"$f":"RADIANS(I111)","v":7.7283179278308918},5,{"$f":"K111*COS(J111)","v":0.62666616782151918},4.9605735065723895,6,{"$f":"N111*COS(J111)","v":0.75199940138582311},5.952688207886867,7,{"$f":"Q111*COS(J111)","v":0.87733263495012692},6.9448029092013455,8,{"$f":"T111*COS(J111)","v":1.0026658685144307},7.936917610515823,9,{"$f":"W111*COS(J111)","v":1.1279991020787346},8.9290323118303014,10,{"$f":"Z111*COS(J111)","v":1.2533323356430384},9.921147013144779,11,{"$f":"AC111*COS(J111)","v":1.3786655692073422},10.913261714459257,12,{"$f":"AF111*COS(J111)","v":1.5039988027716462},11.905376415773734,13,{"$f":"AI111*COS(J111)","v":1.62933203633595},12.897491117088212,14,{"$f":"AL111*COS(J111)","v":1.7546652699002538},13.889605818402691,15,{"$f":"AO111*COS(J111)","v":1.8799985034645577},14.881720519717168,16,{"$f":"AR111*COS(J111)","v":2.0053317370288615},15.873835221031646,17,{"$f":"AU111*COS(J111)","v":2.1306649705931653},16.865949922346125,4,{"$f":"AX111*COS(J111)","v":0.50133293425721537},3.9684588052579115,null,null,null,null,null,null,null,null,null,null,null,null,99,{"$f":"スコアシート!AY31","v":-2},3,{"$f":"BO111*COS(J111)","v":0.37599970069291155},2.9763441039434335,99,19.5,2.443998054503925,19.346236675632319,169,142,149]
[null,null,null,null,null,null,null,100,{"$f":"I3+(H112-1)*I4","v":446.40000000000003},{"$f":"RADIANS(I112)","v":7.7911497809026873},5,{"$f":"K112*COS(J112)","v":0.31395259764656658},4.990133642141358,6,{"$f":"N112*COS(J112)","v":0.37674311717587994},5.9881603705696289,7,{"$f":"Q112*COS(J112)","v":0.43953363670519324},6.9861870989979007,8,{"$f":"T112*COS(J112)","v":0.50232415623450655},7.9842138274261725,9,{"$f":"W112*COS(J112)","v":0.56511467576381991},8.9822405558544443,10,{"$f":"Z112*COS(J112)","v":0.62790519529313316},9.980267284282716,11,{"$f":"AC112*COS(J112)","v":0.69069571482244652},10.978294012710988,12,{"$f":"AF112*COS(J112)","v":0.75348623435175988},11.976320741139258,13,{"$f":"AI112*COS(J112)","v":0.81627675388107312},12.97434746956753,14,{"$f":"AL112*COS(J112)","v":0.87906727341038648},13.972374197995801,15,{"$f":"AO112*COS(J112)","v":0.94185779293969973},14.970400926424073,16,{"$f":"AR112*COS(J112)","v":1.0046483124690131},15.968427654852345,17,{"$f":"AU112*COS(J112)","v":1.0674388319983263},16.966454383280617,4,{"$f":"AX112*COS(J112)","v":0.25116207811725327},3.9921069137130862,null,null,null,null,null,null,null,null,null,null,null,null,100,{"$f":"スコアシート!BA31+スコアシート!C10","v":98},103,{"$f":"BO112*COS(J112)","v":6.4674235115192715},102.79675302811197,100,19.5,1.2244151308216098,19.461521204351296,169,142,147]
[null,null,null,null,null,null,null,1,{"$f":"I3+(H113-1)*I4","v":90},{"$f":"RADIANS(I113)","v":1.5707963267948966},5,{"$f":"K113*COS(J113)","v":3.06287113727155E-16},5,6,{"$f":"N113*COS(J113)","v":3.67544536472586E-16},6,7,{"$f":"Q113*COS(J113)","v":4.28801959218017E-16},7,8,{"$f":"T113*COS(J113)","v":4.90059381963448E-16},8,9,{"$f":"W113*COS(J113)","v":5.51316804708879E-16},9,10,{"$f":"Z113*COS(J113)","v":6.1257422745431001E-16},10,11,{"$f":"AC113*COS(J113)","v":6.7383165019974101E-16},11,12,{"$f":"AF113*COS(J113)","v":7.3508907294517201E-16},12,13,{"$f":"AI113*COS(J113)","v":7.9634649569060301E-16},13,14,{"$f":"AL113*COS(J113)","v":8.5760391843603401E-16},14,15,{"$f":"AO113*COS(J113)","v":9.1886134118146501E-16},15,16,{"$f":"AR113*COS(J113)","v":9.8011876392689601E-16},16,17,{"$f":"AU113*COS(J113)","v":1.041376186672327E-15},17,4,{"$f":"AX113*COS(J113)","v":2.45029690981724E-16},4,null,null,null,null,null,null,null,null,null,null,null,null,101,{"$f":"BN13","v":98},103,{"$f":"BO113*COS(J113)","v":6.3095145427793931E-15},103,1,19.5,1.1945197435359045E-15,19.5,169,143,145]

{"sheet":"スコアシート","index":2,"n_rows":35,"n_cols":60,"rows_kept":35,"cut":false,"hidden":false,"merged":[[32,58,32,59],[32,53,32,57],[32,47,32,50],[30,44,30,45],[30,46,30,47],[30,48,30,49],[30,50,30,51],[30,52,30,53],[30,54,30,55],[30,32,30,33],[30,34,30,35],[30,36,30,37],[30,38,30,39],[30,40,30,41],[30,42,30,43],[30,20,30,21],[30,22,30,23],[30,24,30,25],[30,26,30,27],[30,28,30,29],[30,30,30,31],[30,2,30,3],[30,4,30,5],[30,6,30,7],[30,8,30,9],[30,10,30,11],[30,12,30,13],[30,14,30,15],[30,16,30,17],[30,18,30,19],[29,2,29,3],[29,4,29,5],[29,6,29,7],[29,8,29,9],[29,10,29,11],[29,12,29,13],[29,14,29,15],[29,16,29,17],[28,41,28,42],[28,29,28,30],[28,31,28,32],[28,33,28,34],[28,35,28,36],[29,42,29,43],[29,18,29,19],[29,20,29,21],[29,22,29,23],[29,24,29,25],[29,26,29,27],[29,28,29,29],[28,1,28,2],[28,3,28,4],[28,5,28,6],[28,7,28,8],[29,50,29,51],[29,52,29,53],[29,30,29,31],[29,32,29,33],[29,34,29,35],[29,36,29,37],[29,38,29,39],[29,40,29,41],[28,55,28,56],[28,43,28,44],[28,45,28,46],[28,47,28,48],[28,49,28,50],[28,51,28,52],[29,54,29,55],[29,44,29,45],[29,46,29,47],[29,48,29,49],[28,53,28,54],[26,54,26,55],[27,2,27,3],[27,4,27,5],[27,6,27,7],[27,8,27,9],[27,10,27,11],[27,12,27,13],[27,14,27,15],[26,38,26,39],[26,40,26,41],[26,42,26,43],[26,44,26,45],[26,46,26,47],[26,48,26,49],[26,26,26,27],[26,28,26,29],[26,30,26,31],[26,32,26,33],[26,2,26,3],[26,4,26,5],[26,6,26,7],[26,8,26,9],[26,10,26,11],[26,12,26,13],[28,9,28,10],[28,11,28,12],[28,13,28,14],[28,15,28,16],[27,52,27,53],[27,54,27,55],[27,42,27,43],[27,44,27,45],[27,46,27,47],[27,28,27,29],[27,30,27,31],[27,32,27,33],[27,34,27,35],[27,36,27,37],[27,40,27,41],[28,37,28,38],[28,39,28,40],[28,17,28,18],[28,19,28,20],[28,21,28,22],[28,23,28,24],[28,25,28,26],[28,27,28,28],[26,50,26,51],[26,20,26,21],[26,22,26,23],[26,24,26,25],[27,38,27,39],[27,16,27,17],[27,18,27,19],[27,20,27,21],[26,52,26,53],[27,22,27,23],[27,24,27,25],[27,26,27,27],[27,48,27,49],[27,50,27,51],[23,20,23,21],[23,22,23,23],[23,24,23,25],[23,26,23,27],[23,28,23,29],[23,30,23,31],[26,36,26,37],[26,14,26,15],[26,16,26,17],[26,18,26,19],[26,34,26,35],[23,50,23,51],[23,52,23,53],[23,54,23,55],[23,32,23,33],[23,34,23,35],[23,36,23,37],[23,38,23,39],[23,40,23,41],[23,42,23,43],[23,44,23,45],[23,46,23,47],[23,48,23,49],[22,54,22,55],[23,2,23,3],[23,4,23,5],[23,6,23,7],[23,8,23,9],[23,10,23,11],[23,12,23,13],[23,14,23,15],[23,16,23,17],[23,18,23,19],[22,42,22,43],[22,44,22,45],[22,46,22,47],[22,48,22,49],[22,50,22,51],[22,52,22,53],[22,30,22,31],[22,32,22,33],[22,34,22,35],[22,36,22,37],[22,38,22,39],[22,40,22,41],[22,18,22,19],[22,20,22,21],[22,22,22,23],[22,24,22,25],[22,26,22,27],[22,28,22,29],[21,53,21,54],[21,55,21,56],[22,2,22,3],[22,4,22,5],[22,6,22,7],[22,8,22,9],[22,10,22,11],[22,12,22,13],[22,14,22,15],[22,16,22,17],[21,41,21,42],[21,43,21,44],[21,45,21,46],[21,47,21,48],[21,49,21,50],[21,51,21,52],[21,29,21,30],[21,31,21,32],[21,33,21,34],[21,35,21,36],[21,37,21,38],[21,39,21,40],[21,17,21,18],[21,19,21,20],[21,21,21,22],[21,23,21,24],[21,25,21,26],[21,27,21,28],[20,52,20,53],[20,22,20,23],[20,24,20,25],[20,26,20,27],[20,54,20,55],[21,1,21,2],[21,3,21,4],[21,5,21,6],[21,7,21,8],[21,9,21,10],[21,11,21,12],[21,13,21,14],[21,15,21,16],[20,40,20,41],[20,42,20,43],[20,44,20,45],[20,46,20,47],[20,48,20,49],[20,50,20,51],[20,28,20,29],[20,30,20,31],[20,32,20,33],[20,34,20,35],[20,36,20,37],[20,38,20,39],[20,16,20,17],[20,18,20,19],[20,20,20,21],[19,50,19,51],[19,52,19,53],[19,54,19,55],[20,2,20,3],[20,4,20,5],[20,6,20,7],[20,8,20,9],[20,10,20,11],[20,12,20,13],[20,14,20,15],[19,38,19,39],[19,40,19,41],[19,42,19,43],[19,44,19,45],[19,46,19,47],[19,48,19,49],[19,26,19,27],[19,28,19,29],[19,30,19,31],[19,32,19,33],[19,34,19,35],[19,36,19,37],[19,14,19,15],[19,16,19,17],[19,18,19,19],[19,20,19,21],[19,22,19,23],[19,24,19,25],[19,2,19,3],[19,4,19,5],[19,6,19,7],[19,8,19,9],[19,10,19,11],[19,12,19,13],[16,44,16,45],[16,46,16,47],[16,48,16,49],[16,50,16,51],[16,52,16,53],[16,54,16,55],[16,32,16,33],[16,34,16,35],[16,36,16,37],[16,38,16,39],[16,40,16,41],[16,42,16,43],[16,20,16,21],[16,22,16,23],[16,24,16,25],[16,26,16,27],[16,28,16,29],[16,30,16,31],[15,54,15,55],[16,2,16,3],[16,4,16,5],[16,6,16,7],[16,8,16,9],[16,10,16,11],[16,12,16,13],[16,14,16,15],[16,16,16,17],[16,18,16,19],[15,42,15,43],[15,44,15,45],[15,46,15,47],[15,48,15,49],[15,50,15,51],[15,52,15,53],[15,30,15,31],[15,32,15,33],[15,34,15,35],[15,36,15,37],[15,38,15,39],[15,40,15,41],[15,18,15,19],[15,20,15,21],[15,22,15,23],[15,24,15,25],[15,26,15,27],[15,28,15,29],[14,53,14,54],[14,55,14,56],[15,2,15,3],[15,4,15,5],[15,6,15,7],[15,8,15,9],[15,10,15,11],[15,12,15,13],[15,14,15,15],[15,16,15,17],[14,41,14,42],[14,43,14,44],[14,45,14,46],[14,47,14,48],[14,49,14,50],[14,51,14,52],[14,29,14,30],[14,31,14,32],[14,33,14,34],[14,35,14,36],[14,37,14,38],[14,39,14,40],[14,17,14,18],[14,19,14,20],[14,21,14,22],[14,23,14,24],[14,25,14,26],[14,27,14,28],[13,52,13,53],[13,54,13,55],[14,1,14,2],[14,3,14,4],[14,5,14,6],[14,7,14,8],[14,9,14,10],[14,11,14,12],[14,13,14,14],[14,15,14,16],[13,40,13,41],[13,42,13,43],[13,44,13,45],[13,46,13,47],[13,48,13,49],[13,50,13,51],[13,28,13,29],[13,30,13,31],[13,32,13,33],[13,34,13,35],[13,36,13,37],[13,38,13,39],[13,16,13,17],[13,18,13,19],[13,20,13,21],[13,22,13,23],[13,24,13,25],[13,26,13,27],[12,50,12,51],[12,20,12,21],[12,22,12,23],[12,24,12,25],[12,52,12,53],[12,54,12,55],[13,2,13,3],[13,4,13,5],[13,6,13,7],[13,8,13,9],[13,10,13,11],[13,12,13,13],[13,14,13,15],[12,38,12,39],[12,40,12,41],[12,42,12,43],[12,44,12,45],[12,46,12,47],[12,48,12,49],[12,26,12,27],[12,28,12,29],[12,30,12,31],[12,32,12,33],[12,34,12,35],[12,36,12,37],[12,14,12,15],[12,16,12,17],[12,18,12,19],[12,2,12,3],[12,4,12,5],[12,6,12,7],[12,8,12,9],[12,10,12,11],[12,12,12,13],[9,44,9,45],[9,46,9,47],[9,48,9,49],[9,20,9,21],[9,22,9,23],[9,24,9,25],[9,26,9,27],[9,28,9,29],[9,30,9,31],[9,50,9,51],[9,52,9,53],[9,54,9,55],[9,32,9,33],[9,34,9,35],[9,36,9,37],[9,38,9,39],[9,40,9,41],[9,42,9,43],[8,54,8,55],[9,2,9,3],[9,4,9,5],[9,6,9,7],[9,8,9,9],[9,10,9,11],[9,12,9,13],[9,14,9,15],[9,16,9,17],[9,18,9,19],[8,42,8,43],[8,44,8,45],[8,46,8,47],[8,48,8,49],[8,50,8,51],[8,52,8,53],[8,30,8,31],[8,32,8,33],[8,34,8,35],[8,36,8,37],[8,38,8,39],[8,40,8,41],[8,18,8,19],[8,20,8,21],[8,22,8,23],[8,24,8,25],[8,26,8,27],[8,28,8,29],[7,53,7,54],[7,55,7,56],[8,2,8,3],[8,4,8,5],[8,6,8,7],[8,8,8,9],[8,10,8,11],[8,12,8,13],[8,14,8,15],[8,16,8,17],[7,41,7,42],[7,43,7,44],[7,45,7,46],[7,47,7,48],[7,49,7,50],[7,51,7,52],[7,29,7,30],[7,31,7,32],[7,33,7,34],[7,35,7,36],[7,37,7,38],[7,39,7,40],[7,17,7,18],[7,19,7,20],[7,21,7,22],[7,23,7,24],[7,25,7,26],[7,27,7,28],[6,52,6,53],[6,22,6,23],[6,24,6,25],[6,26,6,27],[6,54,6,55],[7,1,7,2],[7,3,7,4],[7,5,7,6],[7,7,7,8],[7,9,7,10],[7,11,7,12],[7,13,7,14],[7,15,7,16],[6,40,6,41],[6,42,6,43],[6,44,6,45],[6,46,6,47],[6,48,6,49],[6,50,6,51],[6,28,6,29],[6,30,6,31],[6,32,6,33],[6,34,6,35],[6,36,6,37],[6,38,6,39],[6,16,6,17],[6,18,6,19],[6,20,6,21],[6,2,6,3],[6,4,6,5],[6,6,6,7],[6,8,6,9],[6,10,6,11],[6,12,6,13],[6,14,6,15],[5,38,5,39],[5,40,5,41],[5,26,5,27],[5,28,5,29],[5,30,5,31],[5,32,5,33],[5,34,5,35],[5,36,5,37],[5,14,5,15],[5,16,5,17],[1,44,1,59],[0,44,0,59],[5,18,5,19],[5,20,5,21],[5,22,5,23],[5,24,5,25],[5,2,5,3],[5,4,5,5],[5,6,5,7],[5,8,5,9],[5,10,5,11],[5,12,5,13],[5,50,5,51],[5,52,5,53],[5,54,5,55],[5,42,5,43],[5,44,5,45],[5,46,5,47],[5,48,5,49]]}
["ND-100 スコア・シート",null,null,null,null,null,null,null,null,null,null,null,null,null,null,null,null,null,null,null,null,null,null,null,null,null,null,null,null,null,null,null,null,null,null,null,null,null,null,null,null,null,null,null,{"$f":"\"検査日　\"&入力シート!$D$5&\" 年 \"&入力シート!$G$5&\" 月 \"&入力シート!$I$5&\" 日\"","v":"検査日　 年  月  日"}]
[null,null,null,null,null,null,null,null,null,null,null,null,null,null,null,null,null,null,null,null,null,null,null,null,null,null,null,null,null,null,null,null,null,null,null,null,null,null,null,null,null,null,null,null,{"$f":"\"被検者　\"&入力シート!$D$3","v":"被検者　"}]
[]
[]
[null,null,null,null,null,null,null,null,null,null,null,null,null,null,null,null,null,null,null,null,null,null,null,null,"＜内箱１＞"]
["順位",null,{"$f":"\"(100)\"","v":"(100)"},null,1,null,{"$f":"E6+1","v":2},null,{"$f":"G6+1","v":3},null,{"$f":"I6+1","v":4},null,{"$f":"K6+1","v":5},null,{"$f":"M6+1","v":6},null,{"$f":"O6+1","v":7},null,{"$f":"Q6+1","v":8},null,{"$f":"S6+1","v":9},null,{"$f":"U6+1","v":10},null,{"$f":"W6+1","v":11},null,{"$f":"Y6+1","v":12},null,{"$f":"AA6+1","v":13},null,{"$f":"AC6+1","v":14},null,{"$f":"AE6+1","v":15},null,{"$f":"AG6+1","v":16},null,{"$f":"AI6+1","v":17},null,{"$f":"AK6+1","v":18},null,{"$f":"AM6+1","v":19},null,{"$f":"AO6+1","v":20},null,{"$f":"AQ6+1","v":21},null,{"$f":"AS6+1","v":22},null,{"$f":"AU6+1","v":23},null,{"$f":"AW6+1","v":24},null,{"$f":"AY6+1","v":25},null,{"$f":"BA6+1","v":26}]
["テスト順",null,0,null,{"$f":"入力シート!D10","v":0},null,{"$f":"入力シート!E10","v":0},null,{"$f":"入力シート!F10","v":0},null,{"$f":"入力シート!G10","v":0},null,{"$f":"入力シート!H10","v":0},null,{"$f":"入力シート!I10","v":0},null,{"$f":"入力シート!J10","v":0},null,{"$f":"入力シート!K10","v":0},null,{"$f":"入力シート!L10","v":0},null,{"$f":"入力シート!M10","v":0},null,{"$f":"入力シート!N10","v":0},null,{"$f":"入力シート!O10","v":0},null,{"$f":"入力シート!P10","v":0},null,{"$f":"入力シート!Q10","v":0},null,{"$f":"入力シート!R10","v":0},null,{"$f":"入力シート!S10","v":0},null,{"$f":"入力シート!T10","v":0},null,{"$f":"入力シート!U10","v":0},null,{"$f":"入力シート!V10","v":0},null,{"$f":"入力シート!W10","v":0},null,{"$f":"入力シート!X10","v":0},null,{"$f":"入力シート!Y10","v":0},null,{"$f":"入力シート!Z10","v":0},null,{"$f":"入力シート!AA10","v":0},null,{"$f":"入力シート!AB10","v":0},null,{"$f":"BC6","v":26}]
["差",1,null,{"$f":"ABS(0-E7)","v":0},null,{"$f":"ABS(E7-G7)","v":0},null,{"$f":"ABS(G7-I7)","v":0},null,{"$f":"ABS(I7-K7)","v":0},null,{"$f":"ABS(K7-M7)","v":0},null,{"$f":"ABS(M7-O7)","v":0},null,{"$f":"ABS(O7-Q7)","v":0},null,{"$f":"ABS(Q7-S7)","v":0},null,{"$f":"ABS(S7-U7)","v":0},null,{"$f":"ABS(U7-W7)","v":0},null,{"$f":"ABS(W7-Y7)","v":0},null,{"$f":"ABS(Y7-AA7)","v":0},null,{"$f":"ABS(AA7-AC7)","v":0},null,{"$f":"ABS(AC7-AE7)","v":0},null,{"$f":"ABS(AE7-AG7)","v":0},null,{"$f":"ABS(AG7-AI7)","v":0},null,{"$f":"ABS(AI7-AK7)","v":0},null,{"$f":"ABS(AK7-AM7)","v":0},null,{"$f":"ABS(AM7-AO7)","v":0},null,{"$f":"ABS(AO7-AQ7)","v":0},null,{"$f":"ABS(AQ7-AS7)","v":0},null,{"$f":"ABS(AS7-AU7)","v":0},null,{"$f":"ABS(AU7-AW7)","v":0},null,{"$f":"ABS(AW7-AY7)","v":0},null,{"$f":"ABS(AY7-BA7)","v":0},null,{"$f":"ABS(BA7-BC7)","v":26},null,1]
["加える",null,{"$f":"B8+D8","v":1},null,{"$f":"D8+F8","v":0},null,{"$f":"F8+H8","v":0},null,{"$f":"H8+J8","v":0},null,{"$f":"J8+L8","v":0},null,{"$f":"L8+N8","v":0},null,{"$f":"N8+P8","v":0},null,{"$f":"P8+R8","v":0},null,{"$f":"R8+T8","v":0},null,{"$f":"T8+V8","v":0},null,{"$f":"V8+X8","v":0},null,{"$f":"X8+Z8","v":0},null,{"$f":"Z8+AB8","v":0},null,{"$f":"AB8+AD8","v":0},null,{"$f":"AD8+AF8","v":0},null,{"$f":"AF8+AH8","v":0},null,{"$f":"AH8+AJ8","v":0},null,{"$f":"AJ8+AL8","v":0},null,{"$f":"AL8+AN8","v":0},null,{"$f":"AN8+AP8","v":0},null,{"$f":"AP8+AR8","v":0},null,{"$f":"AR8+AT8","v":0},null,{"$f":"AT8+AV8","v":0},null,{"$f":"AV8+AX8","v":0},null,{"$f":"AX8+AZ8","v":0},null,{"$f":"AZ8+BB8","v":26},null,{"$f":"BB8+BD8","v":27}]
["2を引く",null,{"$f":"C9-2","v":-1},null,-2,null,-2,null,-2,null,-2,null,-2,null,-2,null,-2,null,-2,null,-2,null,-2,null,-2,null,-2,null,-2,null,-2,null,-2,null,-2,null,-2,null,-2,null,-2,null,-2,null,-2,null,-2,null,-2,null,-2,null,24,null,25,null,null,null,"小計１",{"$f":"IF(入力シート!AE10,\"\",SUM(C10:BC10))","v":""}]
[]
[null,null,null,null,null,null,null,null,null,null,null,null,null,null,null,null,null,null,null,null,null,null,null,null,"＜内箱２＞"]
["順位",null,25,null,{"$f":"C13+1","v":26},null,{"$f":"E13+1","v":27},null,{"$f":"G13+1","v":28},null,{"$f":"I13+1","v":29},null,{"$f":"K13+1","v":30},null,{"$f":"M13+1","v":31},null,{"$f":"O13+1","v":32},null,{"$f":"Q13+1","v":33},null,{"$f":"S13+1","v":34},null,{"$f":"U13+1","v":35},null,{"$f":"W13+1","v":36},null,{"$f":"Y13+1","v":37},null,{"$f":"AA13+1","v":38},null,{"$f":"AC13+1","v":39},null,{"$f":"AE13+1","v":40},null,{"$f":"AG13+1","v":41},null,{"$f":"AI13+1","v":42},null,{"$f":"AK13+1","v":43},null,{"$f":"AM13+1","v":44},null,{"$f":"AO13+1","v":45},null,{"$f":"AQ13+1","v":46},null,{"$f":"AS13+1","v":47},null,{"$f":"AU13+1","v":48},null,{"$f":"AW13+1","v":49},null,{"$f":"AY13+1","v":50},null,{"$f":"BA13+1","v":51}]
["テスト順",null,{"$f":"C13","v":25},null,{"$f":"入力シート!D16","v":0},null,{"$f":"入力シート!E16","v":0},null,{"$f":"入力シート!F16","v":0},null,{"$f":"入力シート!G16","v":0},null,{"$f":"入力シート!H16","v":0},null,{"$f":"入力シート!I16","v":0},null,{"$f":"入力シート!J16","v":0},null,{"$f":"入力シート!K16","v":0},null,{"$f":"入力シート!L16","v":0},null,{"$f":"入力シート!M16","v":0},null,{"$f":"入力シート!N16","v":0},null,{"$f":"入力シート!O16","v":0},null,{"$f":"入力シート!P16","v":0},null,{"$f":"入力シート!Q16","v":0},null,{"$f":"入力シート!R16","v":0},null,{"$f":"入力シート!S16","v":0},null,{"$f":"入力シート!T16","v":0},null,{"$f":"入力シート!U16","v":0},null,{"$f":"入力シート!V16","v":0},null,{"$f":"入力シート!W16","v":0},null,{"$f":"入力シート!X16","v":0},null,{"$f":"入力シート!Y16","v":0},null,{"$f":"入力シート!Z16","v":0},null,{"$f":"入力シート!AA16","v":0},null,{"$f":"入力シート!AB16","v":0},null,{"$f":"BC13","v":51}]
["差",1,null,{"$f":"ABS(C14-E14)","v":25},null,{"$f":"ABS(E14-G14)","v":0},null,{"$f":"ABS(G14-I14)","v":0},null,{"$f":"ABS(I14-K14)","v":0},null,{"$f":"ABS(K14-M14)","v":0},null,{"$f":"ABS(M14-O14)","v":0},null,{"$f":"ABS(O14-Q14)","v":0},null,{"$f":"ABS(Q14-S14)","v":0},null,{"$f":"ABS(S14-U14)","v":0},null,{"$f":"ABS(U14-W14)","v":0},null,{"$f":"ABS(W14-Y14)","v":0},null,{"$f":"ABS(Y14-AA14)","v":0},null,{"$f":"ABS(AA14-AC14)","v":0},null,{"$f":"ABS(AC14-AE14)","v":0},null,{"$f":"ABS(AE14-AG14)","v":0},null,{"$f":"ABS(AG14-AI14)","v":0},null,{"$f":"ABS(AI14-AK14)","v":0},null,{"$f":"ABS(AK14-AM14)","v":0},null,{"$f":"ABS(AM14-AO14)","v":0},null,{"$f":"ABS(AO14-AQ14)","v":0},null,{"$f":"ABS(AQ14-AS14)","v":0},null,{"$f":"ABS(AS14-AU14)","v":0},null,{"$f":"ABS(AU14-AW14)","v":0},null,{"$f":"ABS(AW14-AY14)","v":0},null,{"$f":"ABS(AY14-BA14)","v":0},null,{"$f":"ABS(BA14-BC14)","v":51},null,1]
["加える",null,{"$f":"B15+D15","v":26},null,{"$f":"D15+F15","v":25},null,{"$f":"F15+H15","v":0},null,{"$f":"H15+J15","v":0},null,{"$f":"J15+L15","v":0},null,{"$f":"L15+N15","v":0},null,{"$f":"N15+P15","v":0},null,{"$f":"P15+R15","v":0},null,{"$f":"R15+T15","v":0},null,{"$f":"T15+V15","v":0},null,{"$f":"V15+X15","v":0},null,{"$f":"X15+Z15","v":0},null,{"$f":"Z15+AB15","v":0},null,{"$f":"AB15+AD15","v":0},null,{"$f":"AD15+AF15","v":0},null,{"$f":"AF15+AH15","v":0},null,{"$f":"AH15+AJ15","v":0},null,{"$f":"AJ15+AL15","v":0},null,{"$f":"AL15+AN15","v":0},null,{"$f":"AN15+AP15","v":0},null,{"$f":"AP15+AR15","v":0},null,{"$f":"AR15+AT15","v":0},null,{"$f":"AT15+AV15","v":0},null,{"$f":"AV15+AX15","v":0},null,{"$f":"AX15+AZ15","v":0},null,{"$f":"AZ15+BB15","v":51},null,{"$f":"BB15+BD15","v":52}]
["2を引く",null,{"$f":"C16-2","v":24},null,{"$f":"E16-2","v":23},null,{"$f":"G16-2","v":-2},null,{"$f":"I16-2","v":-2},null,{"$f":"K16-2","v":-2},null,{"$f":"M16-2","v":-2},null,{"$f":"O16-2","v":-2},null,{"$f":"Q16-2","v":-2},null,{"$f":"S16-2","v":-2},null,{"$f":"U16-2","v":-2},null,{"$f":"W16-2","v":-2},null,{"$f":"Y16-2","v":-2},null,{"$f":"AA16-2","v":-2},null,{"$f":"AC16-2","v":-2},null,{"$f":"AE16-2","v":-2},null,{"$f":"AG16-2","v":-2},null,{"$f":"AI16-2","v":-2},null,{"$f":"AK16-2","v":-2},null,{"$f":"AM16-2","v":-2},null,{"$f":"AO16-2","v":-2},null,{"$f":"AQ16-2","v":-2},null,{"$f":"AS16-2","v":-2},null,{"$f":"AU16-2","v":-2},null,{"$f":"AW16-2","v":-2},null,{"$f":"AY16-2","v":-2},null,{"$f":"BA16-2","v":49},null,{"$f":"BC16-2","v":50},null,null,null,"小計２",{"$f":"IF(入力シート!AE16,\"\",SUM(C17:BC17))","v":""}]
[]
[null,null,null,null,null,null,null,null,null,null,null,null,null,null,null,null,null,null,null,null,null,null,null,null,"＜内箱３＞"]
["順位",null,50,null,{"$f":"C20+1","v":51},null,{"$f":"E20+1","v":52},null,{"$f":"G20+1","v":53},null,{"$f":"I20+1","v":54},null,{"$f":"K20+1","v":55},null,{"$f":"M20+1","v":56},null,{"$f":"O20+1","v":57},null,{"$f":"Q20+1","v":58},null,{"$f":"S20+1","v":59},null,{"$f":"U20+1","v":60},null,{"$f":"W20+1","v":61},null,{"$f":"Y20+1","v":62},null,{"$f":"AA20+1","v":63},null,{"$f":"AC20+1","v":64},null,{"$f":"AE20+1","v":65},null,{"$f":"AG20+1","v":66},null,{"$f":"AI20+1","v":67},null,{"$f":"AK20+1","v":68},null,{"$f":"AM20+1","v":69},null,{"$f":"AO20+1","v":70},null,{"$f":"AQ20+1","v":71},null,{"$f":"AS20+1","v":72},null,{"$f":"AU20+1","v":73},null,{"$f":"AW20+1","v":74},null,{"$f":"AY20+1","v":75},null,{"$f":"BA20+1","v":76}]
["テスト順",null,{"$f":"C20","v":50},null,{"$f":"入力シート!D22","v":0},null,{"$f":"入力シート!E22","v":0},null,{"$f":"入力シート!F22","v":0},null,{"$f":"入力シート!G22","v":0},null,{"$f":"入力シート!H22","v":0},null,{"$f":"入力シート!I22","v":0},null,{"$f":"入力シート!J22","v":0},null,{"$f":"入力シート!K22","v":0},null,{"$f":"入力シート!L22","v":0},null,{"$f":"入力シート!M22","v":0},null,{"$f":"入力シート!N22","v":0},null,{"$f":"入力シート!O22","v":0},null,{"$f":"入力シート!P22","v":0},null,{"$f":"入力シート!Q22","v":0},null,{"$f":"入力シート!R22","v":0},null,{"$f":"入力シート!S22","v":0},null,{"$f":"入力シート!T22","v":0},null,{"$f":"入力シート!U22","v":0},null,{"$f":"入力シート!V22","v":0},null,{"$f":"入力シート!W22","v":0},null,{"$f":"入力シート!X22","v":0},null,{"$f":"入力シート!Y22","v":0},null,{"$f":"入力シート!Z22","v":0},null,{"$f":"入力シート!AA22","v":0},null,{"$f":"入力シート!AB22","v":0},null,{"$f":"BC20","v":76}]
["差",1,null,{"$f":"ABS(C21-E21)","v":50},null,{"$f":"ABS(E21-G21)","v":0},null,{"$f":"ABS(G21-I21)","v":0},null,{"$f":"ABS(I21-K21)","v":0},null,{"$f":"ABS(K21-M21)","v":0},null,{"$f":"ABS(M21-O21)","v":0},null,{"$f":"ABS(O21-Q21)","v":0},null,{"$f":"ABS(Q21-S21)","v":0},null,{"$f":"ABS(S21-U21)","v":0},null,{"$f":"ABS(U21-W21)","v":0},null,{"$f":"ABS(W21-Y21)","v":0},null,{"$f":"ABS(Y21-AA21)","v":0},null,{"$f":"ABS(AA21-AC21)","v":0},null,{"$f":"ABS(AC21-AE21)","v":0},null,{"$f":"ABS(AE21-AG21)","v":0},null,{"$f":"ABS(AG21-AI21)","v":0},null,{"$f":"ABS(AI21-AK21)","v":0},null,{"$f":"ABS(AK21-AM21)","v":0},null,{"$f":"ABS(AM21-AO21)","v":0},null,{"$f":"ABS(AO21-AQ21)","v":0},null,{"$f":"ABS(AQ21-AS21)","v":0},null,{"$f":"ABS(AS21-AU21)","v":0},null,{"$f":"ABS(AU21-AW21)","v":0},null,{"$f":"ABS(AW21-AY21)","v":0},null,{"$f":"ABS(AY21-BA21)","v":0},null,{"$f":"ABS(BA21-BC21)","v":76},null,1]
["加える",null,{"$f":"B22+D22","v":51},null,{"$f":"D22+F22","v":50},null,{"$f":"F22+H22","v":0},null,{"$f":"H22+J22","v":0},null,{"$f":"J22+L22","v":0},null,{"$f":"L22+N22","v":0},null,{"$f":"N22+P22","v":0},null,{"$f":"P22+R22","v":0},null,{"$f":"R22+T22","v":0},null,{"$f":"T22+V22","v":0},null,{"$f":"V22+X22","v":0},null,{"$f":"X22+Z22","v":0},null,{"$f":"Z22+AB22","v":0},null,{"$f":"AB22+AD22","v":0},null,{"$f":"AD22+AF22","v":0},null,{"$f":"AF22+AH22","v":0},null,{"$f":"AH22+AJ22","v":0},null,{"$f":"AJ22+AL22","v":0},null,{"$f":"AL22+AN22","v":0},null,{"$f":"AN22+AP22","v":0},null,{"$f":"AP22+AR22","v":0},null,{"$f":"AR22+AT22","v":0},null,{"$f":"AT22+AV22","v":0},null,{"$f":"AV22+AX22","v":0},null,{"$f":"AX22+AZ22","v":0},null,{"$f":"AZ22+BB22","v":76},null,{"$f":"BB22+BD22","v":77}]
["2を引く",null,{"$f":"C23-2","v":49},null,{"$f":"E23-2","v":48},null,{"$f":"G23-2","v":-2},null,{"$f":"I23-2","v":-2},null,{"$f":"K23-2","v":-2},null,{"$f":"M23-2","v":-2},null,{"$f":"O23-2","v":-2},null,{"$f":"Q23-2","v":-2},null,{"$f":"S23-2","v":-2},null,{"$f":"U23-2","v":-2},null,{"$f":"W23-2","v":-2},null,{"$f":"Y23-2","v":-2},null,{"$f":"AA23-2","v":-2},null,{"$f":"AC23-2","v":-2},null,{"$f":"AE23-2","v":-2},null,{"$f":"AG23-2","v":-2},null,{"$f":"AI23-2","v":-2},null,{"$f":"AK23-2","v":-2},null,{"$f":"AM23-2","v":-2},null,{"$f":"AO23-2","v":-2},null,{"$f":"AQ23-2","v":-2},null,{"$f":"AS23-2","v":-2},null,{"$f":"AU23-2","v":-2},null,{"$f":"AW23-2","v":-2},null,{"$f":"AY23-2","v":-2},null,{"$f":"BA23-2","v":74},null,{"$f":"BC23-2","v":75},null,null,null,"小計３",{"$f":"IF(入力シート!AE22,\"\",SUM(C24:BC24))","v":""}]
[]
[null,null,null,null,null,null,null,null,null,null,null,null,null,null,null,null,null,null,null,null,null,null,null,null,"＜内箱４＞"]
["順位",null,75,null,{"$f":"C27+1","v":76},null,{"$f":"E27+1","v":77},null,{"$f":"G27+1","v":78},null,{"$f":"I27+1","v":79},null,{"$f":"K27+1","v":80},null,{"$f":"M27+1","v":81},null,{"$f":"O27+1","v":82},null,{"$f":"Q27+1","v":83},null,{"$f":"S27+1","v":84},null,{"$f":"U27+1","v":85},null,{"$f":"W27+1","v":86},null,{"$f":"Y27+1","v":87},null,{"$f":"AA27+1","v":88},null,{"$f":"AC27+1","v":89},null,{"$f":"AE27+1","v":90},null,{"$f":"AG27+1","v":91},null,{"$f":"AI27+1","v":92},null,{"$f":"AK27+1","v":93},null,{"$f":"AM27+1","v":94},null,{"$f":"AO27+1","v":95},null,{"$f":"AQ27+1","v":96},null,{"$f":"AS27+1","v":97},null,{"$f":"AU27+1","v":98},null,{"$f":"AW27+1","v":99},null,{"$f":"AY27+1","v":100},null,{"$f":"\"(1)\"","v":"(1)"}]
["テスト順",null,{"$f":"C27","v":75},null,{"$f":"入力シート!D28","v":0},null,{"$f":"入力シート!E28","v":0},null,{"$f":"入力シート!F28","v":0},null,{"$f":"入力シート!G28","v":0},null,{"$f":"入力シート!H28","v":0},null,{"$f":"入力シート!I28","v":0},null,{"$f":"入力シート!J28","v":0},null,{"$f":"入力シート!K28","v":0},null,{"$f":"入力シート!L28","v":0},null,{"$f":"入力シート!M28","v":0},null,{"$f":"入力シート!N28","v":0},null,{"$f":"入力シート!O28","v":0},null,{"$f":"入力シート!P28","v":0},null,{"$f":"入力シート!Q28","v":0},null,{"$f":"入力シート!R28","v":0},null,{"$f":"入力シート!S28","v":0},null,{"$f":"入力シート!T28","v":0},null,{"$f":"入力シート!U28","v":0},null,{"$f":"入力シート!V28","v":0},null,{"$f":"入力シート!W28","v":0},null,{"$f":"入力シート!X28","v":0},null,{"$f":"入力シート!Y28","v":0},null,{"$f":"入力シート!Z28","v":0},null,{"$f":"入力シート!AA28","v":0},null,{"$f":"入力シート!AB28","v":0},null,101]
["差",1,null,{"$f":"ABS(C28-E28)","v":75},null,{"$f":"ABS(E28-G28)","v":0},null,{"$f":"ABS(G28-I28)","v":0},null,{"$f":"ABS(I28-K28)","v":0},null,{"$f":"ABS(K28-M28)","v":0},null,{"$f":"ABS(M28-O28)","v":0},null,{"$f":"ABS(O28-Q28)","v":0},null,{"$f":"ABS(Q28-S28)","v":0},null,{"$f":"ABS(S28-U28)","v":0},null,{"$f":"ABS(U28-W28)","v":0},null,{"$f":"ABS(W28-Y28)","v":0},null,{"$f":"ABS(Y28-AA28)","v":0},null,{"$f":"ABS(AA28-AC28)","v":0},null,{"$f":"ABS(AC28-AE28)","v":0},null,{"$f":"ABS(AE28-AG28)","v":0},null,{"$f":"ABS(AG28-AI28)","v":0},null,{"$f":"ABS(AI28-AK28)","v":0},null,{"$f":"ABS(AK28-AM28)","v":0},null,{"$f":"ABS(AM28-AO28)","v":0},null,{"$f":"ABS(AO28-AQ28)","v":0},null,{"$f":"ABS(AQ28-AS28)","v":0},null,{"$f":"ABS(AS28-AU28)","v":0},null,{"$f":"ABS(AU28-AW28)","v":0},null,{"$f":"ABS(AW28-AY28)","v":0},null,{"$f":"ABS(AY28-BA28)","v":0},null,{"$f":"ABS(BA28-BC28)","v":101},null,1]
["加える",null,{"$f":"B29+D29","v":76},null,{"$f":"D29+F29","v":75},null,{"$f":"F29+H29","v":0},null,{"$f":"H29+J29","v":0},null,{"$f":"J29+L29","v":0},null,{"$f":"L29+N29","v":0},null,{"$f":"N29+P29","v":0},null,{"$f":"P29+R29","v":0},null,{"$f":"R29+T29","v":0},null,{"$f":"T29+V29","v":0},null,{"$f":"V29+X29","v":0},null,{"$f":"X29+Z29","v":0},null,{"$f":"Z29+AB29","v":0},null,{"$f":"AB29+AD29","v":0},null,{"$f":"AD29+AF29","v":0},null,{"$f":"AF29+AH29","v":0},null,{"$f":"AH29+AJ29","v":0},null,{"$f":"AJ29+AL29","v":0},null,{"$f":"AL29+AN29","v":0},null,{"$f":"AN29+AP29","v":0},null,{"$f":"AP29+AR29","v":0},null,{"$f":"AR29+AT29","v":0},null,{"$f":"AT29+AV29","v":0},null,{"$f":"AV29+AX29","v":0},null,{"$f":"AX29+AZ29","v":0},null,{"$f":"AZ29+BB29","v":101},null,{"$f":"BB29+BD29","v":102}]
["2を引く",null,{"$f":"C30-2","v":74},null,{"$f":"E30-2","v":73},null,{"$f":"G30-2","v":-2},null,{"$f":"I30-2","v":-2},null,{"$f":"K30-2","v":-2},null,{"$f":"M30-2","v":-2},null,{"$f":"O30-2","v":-2},null,{"$f":"Q30-2","v":-2},null,{"$f":"S30-2","v":-2},null,{"$f":"U30-2","v":-2},null,{"$f":"W30-2","v":-2},null,{"$f":"Y30-2","v":-2},null,{"$f":"AA30-2","v":-2},null,{"$f":"AC30-2","v":-2},null,{"$f":"AE30-2","v":-2},null,{"$f":"AG30-2","v":-2},null,{"$f":"AI30-2","v":-2},null,{"$f":"AK30-2","v":-2},null,{"$f":"AM30-2","v":-2},null,{"$f":"AO30-2","v":-2},null,{"$f":"AQ30-2","v":-2},null,{"$f":"AS30-2","v":-2},null,{"$f":"AU30-2","v":-2},null,{"$f":"AW30-2","v":-2},null,{"$f":"AY30-2","v":-2},null,{"$f":"BA30-2","v":99},null,{"$f":"BC30-2","v":100},null,null,null,"小計４",{"$f":"IF(入力シート!AE28,\"\",SUM(C31:BC31))","v":""}]
[]
[null,null,null,null,null,null,null,null,null,null,null,null,null,null,null,null,null,null,null,null,null,null,null,null,null,null,null,null,null,null,null,null,null,null,"総計（小計１～４の合計）",null,null,null,null,null,null,null,null,null,null,null,null,{"$f":"IF(入力シート!AE32,\"\",BH10+BH17+BH24+BH31)","v":""},null,null,null,null,null,"判定",null,null,null,null,{"$f":"IF(入力シート!R34=\"判定しない\",\"\",IF(入力シート!R34=\"判定基準Ａ\",IF(AV33>82,\"再検査\",IF(AV33>50,\"可\",IF(AV33>18,\"良\",\"優\"))),IF(AV33>80,\"C\",IF(AV33>32,\"B\",\"A\"))))","v":""}]
[]
[null,null,null,null,null,null,null,null,null,null,null,null,null,null,null,null,null,null,null,null,null,null,null,null,null,null,null,null,null,null,null,null,null,null,null,null,null,null,null,null,null,"Copyright　Japan Color Reseach Institute 2018"]

{"sheet":"パターングラフ","index":3,"n_rows":36,"n_cols":11,"rows_kept":36,"cut":false,"hidden":false,"merged":[[0,10,0,12],[1,10,1,12]]}
["ND-100 パターン・グラフ",null,null,null,null,null,null,null,null,null,{"$f":"\"検査日　\"&入力シート!$D$5&\" 年 \"&入力シート!$G$5&\" 月 \"&入力シート!$I$5&\" 日\"","v":"検査日　 年  月  日"}]
[null,null,null,null,null,null,null,null,null,null,{"$f":"\"被検者　\"&入力シート!$D$3","v":"被検者　"}]
[]
[]
[]
[]
[]
[]
[]
[]
[]
[]
[]
[]
[]
[]
[]
[]
[]
[]
[]
[]
[]
[]
[]
[]
[]
[]
[]
[]
[]
[]
["表示される色は目安です。"]
["正確な色は実機にて確認してください"]
[]
[null,null,null,null,null,null,null,null,"Copyright　Japan Color Reseach Institute 2017"]

{"sheet":"使用上の注意","index":4,"n_rows":26,"n_cols":3,"rows_kept":26,"cut":false,"hidden":false,"merged":[]}
[]
[]
[]
["使用上の注意　"]
[null,"・この計算シートはver.1.03(2022.6.15版)です。"]
[null,"・この計算シートは日本色研事業(株) 100 hue test(ND-100)専用となります。"]
[null,"・この計算シートについてのお問合せは下記にお問い合わせください"]
[null,null,"一般財団法人日本色彩研究所"]
[null,null,"https://www.jcri.jp"]
[null,"・この計算シートに関わるすべての権利は一般財団法人日本色彩研究所に属します。"]
[null,"・判定基準は変更されることがあります。"]
[null,"・この計算シートの使用によって万が一損害が生じても当研究所は一切の責任を負いかねますのでご了解の上、ご利用ください。"]
[]
[]
[]
[]
["入力上の注意　"]
[null,"・被検者名、検査日を青色セルに記入してください"]
[null,"・内箱番号を間違えないように気をつけてください。"]
[null,"・テスト順欄の黄色セルに回答値を入力してください。"]
[null,"・範囲外の回答値は入力できません。"]
[null,"・黄色セルが赤色文字になったときは回答値が重複しています。確認してください。"]
[null,"・黄色セルに空白があるか重複していると小計は表示されません。"]
[null,"・緑色セルの判定基準を選択してください"]
[null,"・入力結果はスコアシート、パターングラフに反映されます。"]
[null,"・必要に応じて、スコアシート、パターングラフを印刷してください。"]